BEGIN:VCALENDAR
VERSION:2.0
PRODID:-//Big Bay Point Golf Club - ECPv6.15.20//NONSGML v1.0//EN
CALSCALE:GREGORIAN
METHOD:PUBLISH
X-ORIGINAL-URL:https://www.bigbaypointgolf.com
X-WR-CALDESC:Events for Big Bay Point Golf Club
REFRESH-INTERVAL;VALUE=DURATION:PT1H
X-Robots-Tag:noindex
X-PUBLISHED-TTL:PT1H
BEGIN:VTIMEZONE
TZID:America/Toronto
BEGIN:DAYLIGHT
TZOFFSETFROM:-0500
TZOFFSETTO:-0400
TZNAME:EDT
DTSTART:20230312T070000
END:DAYLIGHT
BEGIN:STANDARD
TZOFFSETFROM:-0400
TZOFFSETTO:-0500
TZNAME:EST
DTSTART:20231105T060000
END:STANDARD
BEGIN:DAYLIGHT
TZOFFSETFROM:-0500
TZOFFSETTO:-0400
TZNAME:EDT
DTSTART:20240310T070000
END:DAYLIGHT
BEGIN:STANDARD
TZOFFSETFROM:-0400
TZOFFSETTO:-0500
TZNAME:EST
DTSTART:20241103T060000
END:STANDARD
BEGIN:DAYLIGHT
TZOFFSETFROM:-0500
TZOFFSETTO:-0400
TZNAME:EDT
DTSTART:20250309T070000
END:DAYLIGHT
BEGIN:STANDARD
TZOFFSETFROM:-0400
TZOFFSETTO:-0500
TZNAME:EST
DTSTART:20251102T060000
END:STANDARD
END:VTIMEZONE
BEGIN:VEVENT
DTSTART;TZID=America/Toronto:20240803T173000
DTEND;TZID=America/Toronto:20240803T230000
DTSTAMP:20260421T102843
CREATED:20240508T172412Z
LAST-MODIFIED:20240623T215203Z
UID:10001278-1722706200-1722726000@www.bigbaypointgolf.com
SUMMARY:100 Year Anniversary Gala
DESCRIPTION:You are Invited \nPlease join us for the\nBig Bay Point Golf & Country Club \n100 YEAR\nANNIVERSARY GALA \nAugust 3\nBig Bay Point Golf & Country Club \n5:30 PM – Cocktails & Appetizers\n7:00 PM – Sit Down Dinner\nFollowed by dancing \nDress Code: Cottage Chic \nPrice: $150+HST per person\n(cash/chit bar) \nThis is a 13+ event \nMeal Selection – please choose from the following: \n8 oz AAA New York Striploin\nwith parsley and garlic sauteed tiger shrimp\, served with sauteed greens and buttered vegetable bundles (heirloom carrot\, French beans\, and yellow peppers)\, finished with chive beurre blanc.\n\nOR \nBreast of Chicken\nstuffed with roasted peppers and goats cheese served with a thyme cream sauce served with sautéed greens and buttered vegetable bundles (heirloom carrot\, French beans\, and yellow peppers)\, finished with chive beurre blanc.\n\n*Vegetarian/Vegan option is available \nPlease RSVP by June 30 to pr*****@*************lf.com with the following details \nAttendee Name(s)\nMeal Selection\nDietary Restrictions
URL:https://www.bigbaypointgolf.com/event/mid-summer-we-are-going-to-party-like-its-1924-anniversary-party/
CATEGORIES:Guest Events,Member Events
END:VEVENT
END:VCALENDAR