BEGIN:VCALENDAR
VERSION:2.0
PRODID:-//Big Bay Point Golf Club - ECPv6.15.20//NONSGML v1.0//EN
CALSCALE:GREGORIAN
METHOD:PUBLISH
X-ORIGINAL-URL:https://www.bigbaypointgolf.com
X-WR-CALDESC:Events for Big Bay Point Golf Club
REFRESH-INTERVAL;VALUE=DURATION:PT1H
X-Robots-Tag:noindex
X-PUBLISHED-TTL:PT1H
BEGIN:VTIMEZONE
TZID:America/Toronto
BEGIN:DAYLIGHT
TZOFFSETFROM:-0500
TZOFFSETTO:-0400
TZNAME:EDT
DTSTART:20230312T070000
END:DAYLIGHT
BEGIN:STANDARD
TZOFFSETFROM:-0400
TZOFFSETTO:-0500
TZNAME:EST
DTSTART:20231105T060000
END:STANDARD
BEGIN:DAYLIGHT
TZOFFSETFROM:-0500
TZOFFSETTO:-0400
TZNAME:EDT
DTSTART:20240310T070000
END:DAYLIGHT
BEGIN:STANDARD
TZOFFSETFROM:-0400
TZOFFSETTO:-0500
TZNAME:EST
DTSTART:20241103T060000
END:STANDARD
BEGIN:DAYLIGHT
TZOFFSETFROM:-0500
TZOFFSETTO:-0400
TZNAME:EDT
DTSTART:20250309T070000
END:DAYLIGHT
BEGIN:STANDARD
TZOFFSETFROM:-0400
TZOFFSETTO:-0500
TZNAME:EST
DTSTART:20251102T060000
END:STANDARD
END:VTIMEZONE
BEGIN:VEVENT
DTSTART;VALUE=DATE:20241015
DTEND;VALUE=DATE:20241016
DTSTAMP:20260421T072127
CREATED:20240823T194921Z
LAST-MODIFIED:20240823T194921Z
UID:10001306-1728950400-1729036799@www.bigbaypointgolf.com
SUMMARY:Pro Shop Starts Closing for the Season
DESCRIPTION:
URL:https://www.bigbaypointgolf.com/event/pro-shop-starts-closing-for-the-season/
CATEGORIES:Guest Events,Member Events
END:VEVENT
BEGIN:VEVENT
DTSTART;TZID=America/Toronto:20241018T100000
DTEND;TZID=America/Toronto:20241018T130000
DTSTAMP:20260421T072127
CREATED:20241018T162308Z
LAST-MODIFIED:20241018T162308Z
UID:10001319-1729245600-1729256400@www.bigbaypointgolf.com
SUMMARY:Public Pay to Play
DESCRIPTION:🍂 Fall End of Season Public Play at Big Bay Point Golf Club! ⛳ \nWith a warm weekend ahead\, we’re excited to announce that select tee times have been opened up for Public Pay to Play Friday-Sunday! 🌞 Invite your friends\, family\, and neighbours to experience our prestigious course for just $40 + HST for 9 holes. \n📍 Location: 3612 30th Sideroad\, Innisfil\, L9S 2Y6\n📞 Call us now to book your spot: 705-436-1378 \nDon’t miss out on this special opportunity to enjoy some fall golf! 🍁 #PublicGolf #FallGolf #BigBayPointGolfClub #PlayToJoin
URL:https://www.bigbaypointgolf.com/event/public-pay-to-play/2024-10-18/
CATEGORIES:Guest Events
END:VEVENT
BEGIN:VEVENT
DTSTART;TZID=America/Toronto:20241019T100000
DTEND;TZID=America/Toronto:20241019T130000
DTSTAMP:20260421T072127
CREATED:20241018T162308Z
LAST-MODIFIED:20241018T162308Z
UID:10001320-1729332000-1729342800@www.bigbaypointgolf.com
SUMMARY:Public Pay to Play
DESCRIPTION:🍂 Fall End of Season Public Play at Big Bay Point Golf Club! ⛳ \nWith a warm weekend ahead\, we’re excited to announce that select tee times have been opened up for Public Pay to Play Friday-Sunday! 🌞 Invite your friends\, family\, and neighbours to experience our prestigious course for just $40 + HST for 9 holes. \n📍 Location: 3612 30th Sideroad\, Innisfil\, L9S 2Y6\n📞 Call us now to book your spot: 705-436-1378 \nDon’t miss out on this special opportunity to enjoy some fall golf! 🍁 #PublicGolf #FallGolf #BigBayPointGolfClub #PlayToJoin
URL:https://www.bigbaypointgolf.com/event/public-pay-to-play/2024-10-19/
CATEGORIES:Guest Events
END:VEVENT
BEGIN:VEVENT
DTSTART;TZID=America/Toronto:20241020T100000
DTEND;TZID=America/Toronto:20241020T130000
DTSTAMP:20260421T072127
CREATED:20241018T162308Z
LAST-MODIFIED:20241018T162308Z
UID:10001321-1729418400-1729429200@www.bigbaypointgolf.com
SUMMARY:Public Pay to Play
DESCRIPTION:🍂 Fall End of Season Public Play at Big Bay Point Golf Club! ⛳ \nWith a warm weekend ahead\, we’re excited to announce that select tee times have been opened up for Public Pay to Play Friday-Sunday! 🌞 Invite your friends\, family\, and neighbours to experience our prestigious course for just $40 + HST for 9 holes. \n📍 Location: 3612 30th Sideroad\, Innisfil\, L9S 2Y6\n📞 Call us now to book your spot: 705-436-1378 \nDon’t miss out on this special opportunity to enjoy some fall golf! 🍁 #PublicGolf #FallGolf #BigBayPointGolfClub #PlayToJoin
URL:https://www.bigbaypointgolf.com/event/public-pay-to-play/2024-10-20/
CATEGORIES:Guest Events
END:VEVENT
END:VCALENDAR