BEGIN:VCALENDAR
VERSION:2.0
PRODID:-//Big Bay Point Golf Club - ECPv6.15.20//NONSGML v1.0//EN
CALSCALE:GREGORIAN
METHOD:PUBLISH
X-ORIGINAL-URL:https://www.bigbaypointgolf.com
X-WR-CALDESC:Events for Big Bay Point Golf Club
REFRESH-INTERVAL;VALUE=DURATION:PT1H
X-Robots-Tag:noindex
X-PUBLISHED-TTL:PT1H
BEGIN:VTIMEZONE
TZID:America/Toronto
BEGIN:DAYLIGHT
TZOFFSETFROM:-0500
TZOFFSETTO:-0400
TZNAME:EDT
DTSTART:20230312T070000
END:DAYLIGHT
BEGIN:STANDARD
TZOFFSETFROM:-0400
TZOFFSETTO:-0500
TZNAME:EST
DTSTART:20231105T060000
END:STANDARD
BEGIN:DAYLIGHT
TZOFFSETFROM:-0500
TZOFFSETTO:-0400
TZNAME:EDT
DTSTART:20240310T070000
END:DAYLIGHT
BEGIN:STANDARD
TZOFFSETFROM:-0400
TZOFFSETTO:-0500
TZNAME:EST
DTSTART:20241103T060000
END:STANDARD
BEGIN:DAYLIGHT
TZOFFSETFROM:-0500
TZOFFSETTO:-0400
TZNAME:EDT
DTSTART:20250309T070000
END:DAYLIGHT
BEGIN:STANDARD
TZOFFSETFROM:-0400
TZOFFSETTO:-0500
TZNAME:EST
DTSTART:20251102T060000
END:STANDARD
BEGIN:DAYLIGHT
TZOFFSETFROM:-0500
TZOFFSETTO:-0400
TZNAME:EDT
DTSTART:20260308T070000
END:DAYLIGHT
BEGIN:STANDARD
TZOFFSETFROM:-0400
TZOFFSETTO:-0500
TZNAME:EST
DTSTART:20261101T060000
END:STANDARD
END:VTIMEZONE
BEGIN:VEVENT
DTSTART;TZID=America/Toronto:20250824T090000
DTEND;TZID=America/Toronto:20250824T140000
DTSTAMP:20260422T063248
CREATED:20250505T152550Z
LAST-MODIFIED:20250622T163928Z
UID:10001603-1756026000-1756044000@www.bigbaypointgolf.com
SUMMARY:Open to the Public Pickleball
DESCRIPTION:Pickleball $5 per guests Sunday and Thursdays 9-2 PM \nCall to book your 1 hour court time with your group 705-436-1378
URL:https://www.bigbaypointgolf.com/event/open-to-the-public-pickleball/2025-08-24/
CATEGORIES:Guest Events
END:VEVENT
BEGIN:VEVENT
DTSTART;TZID=America/Toronto:20250821T090000
DTEND;TZID=America/Toronto:20250821T140000
DTSTAMP:20260422T063248
CREATED:20250505T152920Z
LAST-MODIFIED:20250622T153651Z
UID:10001595-1755766800-1755784800@www.bigbaypointgolf.com
SUMMARY:Open to the Public Pickleball
DESCRIPTION:Pickleball $5 per guests Sunday and Thursdays  9-2 PM \nCall to book your 1 hour court time with your group 705-436-1378
URL:https://www.bigbaypointgolf.com/event/open-to-the-public-pickleball-2/2025-08-21/
CATEGORIES:Guest Events
END:VEVENT
BEGIN:VEVENT
DTSTART;TZID=America/Toronto:20250817T090000
DTEND;TZID=America/Toronto:20250817T140000
DTSTAMP:20260422T063248
CREATED:20250505T152550Z
LAST-MODIFIED:20250622T163928Z
UID:10001602-1755421200-1755439200@www.bigbaypointgolf.com
SUMMARY:Open to the Public Pickleball
DESCRIPTION:Pickleball $5 per guests Sunday and Thursdays 9-2 PM \nCall to book your 1 hour court time with your group 705-436-1378
URL:https://www.bigbaypointgolf.com/event/open-to-the-public-pickleball/2025-08-17/
CATEGORIES:Guest Events
END:VEVENT
BEGIN:VEVENT
DTSTART;TZID=America/Toronto:20250814T090000
DTEND;TZID=America/Toronto:20250814T140000
DTSTAMP:20260422T063248
CREATED:20250505T152920Z
LAST-MODIFIED:20250622T153651Z
UID:10001594-1755162000-1755180000@www.bigbaypointgolf.com
SUMMARY:Open to the Public Pickleball
DESCRIPTION:Pickleball $5 per guests Sunday and Thursdays  9-2 PM \nCall to book your 1 hour court time with your group 705-436-1378
URL:https://www.bigbaypointgolf.com/event/open-to-the-public-pickleball-2/2025-08-14/
CATEGORIES:Guest Events
END:VEVENT
BEGIN:VEVENT
DTSTART;TZID=America/Toronto:20250810T090000
DTEND;TZID=America/Toronto:20250810T140000
DTSTAMP:20260422T063248
CREATED:20250505T152550Z
LAST-MODIFIED:20250622T163928Z
UID:10001601-1754816400-1754834400@www.bigbaypointgolf.com
SUMMARY:Open to the Public Pickleball
DESCRIPTION:Pickleball $5 per guests Sunday and Thursdays 9-2 PM \nCall to book your 1 hour court time with your group 705-436-1378
URL:https://www.bigbaypointgolf.com/event/open-to-the-public-pickleball/2025-08-10/
CATEGORIES:Guest Events
END:VEVENT
BEGIN:VEVENT
DTSTART;TZID=America/Toronto:20250807T090000
DTEND;TZID=America/Toronto:20250807T140000
DTSTAMP:20260422T063248
CREATED:20250505T152920Z
LAST-MODIFIED:20250622T153651Z
UID:10001593-1754557200-1754575200@www.bigbaypointgolf.com
SUMMARY:Open to the Public Pickleball
DESCRIPTION:Pickleball $5 per guests Sunday and Thursdays  9-2 PM \nCall to book your 1 hour court time with your group 705-436-1378
URL:https://www.bigbaypointgolf.com/event/open-to-the-public-pickleball-2/2025-08-07/
CATEGORIES:Guest Events
END:VEVENT
BEGIN:VEVENT
DTSTART;TZID=America/Toronto:20250731T090000
DTEND;TZID=America/Toronto:20250731T140000
DTSTAMP:20260422T063248
CREATED:20250505T152920Z
LAST-MODIFIED:20250622T153651Z
UID:10001592-1753952400-1753970400@www.bigbaypointgolf.com
SUMMARY:Open to the Public Pickleball
DESCRIPTION:Pickleball $5 per guests Sunday and Thursdays  9-2 PM \nCall to book your 1 hour court time with your group 705-436-1378
URL:https://www.bigbaypointgolf.com/event/open-to-the-public-pickleball-2/2025-07-31/
CATEGORIES:Guest Events
END:VEVENT
BEGIN:VEVENT
DTSTART;TZID=America/Toronto:20250727T090000
DTEND;TZID=America/Toronto:20250727T140000
DTSTAMP:20260422T063248
CREATED:20250505T152550Z
LAST-MODIFIED:20250622T163928Z
UID:10001600-1753606800-1753624800@www.bigbaypointgolf.com
SUMMARY:Open to the Public Pickleball
DESCRIPTION:Pickleball $5 per guests Sunday and Thursdays 9-2 PM \nCall to book your 1 hour court time with your group 705-436-1378
URL:https://www.bigbaypointgolf.com/event/open-to-the-public-pickleball/2025-07-27/
CATEGORIES:Guest Events
END:VEVENT
BEGIN:VEVENT
DTSTART;TZID=America/Toronto:20250724T090000
DTEND;TZID=America/Toronto:20250724T140000
DTSTAMP:20260422T063248
CREATED:20250505T152920Z
LAST-MODIFIED:20250622T153651Z
UID:10001591-1753347600-1753365600@www.bigbaypointgolf.com
SUMMARY:Open to the Public Pickleball
DESCRIPTION:Pickleball $5 per guests Sunday and Thursdays  9-2 PM \nCall to book your 1 hour court time with your group 705-436-1378
URL:https://www.bigbaypointgolf.com/event/open-to-the-public-pickleball-2/2025-07-24/
CATEGORIES:Guest Events
END:VEVENT
BEGIN:VEVENT
DTSTART;TZID=America/Toronto:20250720T090000
DTEND;TZID=America/Toronto:20250720T140000
DTSTAMP:20260422T063248
CREATED:20250505T152550Z
LAST-MODIFIED:20250622T163928Z
UID:10001599-1753002000-1753020000@www.bigbaypointgolf.com
SUMMARY:Open to the Public Pickleball
DESCRIPTION:Pickleball $5 per guests Sunday and Thursdays 9-2 PM \nCall to book your 1 hour court time with your group 705-436-1378
URL:https://www.bigbaypointgolf.com/event/open-to-the-public-pickleball/2025-07-20/
CATEGORIES:Guest Events
END:VEVENT
BEGIN:VEVENT
DTSTART;TZID=America/Toronto:20250717T090000
DTEND;TZID=America/Toronto:20250717T140000
DTSTAMP:20260422T063248
CREATED:20250505T152920Z
LAST-MODIFIED:20250622T153651Z
UID:10001590-1752742800-1752760800@www.bigbaypointgolf.com
SUMMARY:Open to the Public Pickleball
DESCRIPTION:Pickleball $5 per guests Sunday and Thursdays  9-2 PM \nCall to book your 1 hour court time with your group 705-436-1378
URL:https://www.bigbaypointgolf.com/event/open-to-the-public-pickleball-2/2025-07-17/
CATEGORIES:Guest Events
END:VEVENT
BEGIN:VEVENT
DTSTART;TZID=America/Toronto:20250713T090000
DTEND;TZID=America/Toronto:20250713T140000
DTSTAMP:20260422T063248
CREATED:20250505T152550Z
LAST-MODIFIED:20250622T163928Z
UID:10001598-1752397200-1752415200@www.bigbaypointgolf.com
SUMMARY:Open to the Public Pickleball
DESCRIPTION:Pickleball $5 per guests Sunday and Thursdays 9-2 PM \nCall to book your 1 hour court time with your group 705-436-1378
URL:https://www.bigbaypointgolf.com/event/open-to-the-public-pickleball/2025-07-13/
CATEGORIES:Guest Events
END:VEVENT
BEGIN:VEVENT
DTSTART;TZID=America/Toronto:20250710T090000
DTEND;TZID=America/Toronto:20250710T140000
DTSTAMP:20260422T063248
CREATED:20250505T152920Z
LAST-MODIFIED:20250622T153651Z
UID:10001589-1752138000-1752156000@www.bigbaypointgolf.com
SUMMARY:Open to the Public Pickleball
DESCRIPTION:Pickleball $5 per guests Sunday and Thursdays  9-2 PM \nCall to book your 1 hour court time with your group 705-436-1378
URL:https://www.bigbaypointgolf.com/event/open-to-the-public-pickleball-2/2025-07-10/
CATEGORIES:Guest Events
END:VEVENT
BEGIN:VEVENT
DTSTART;TZID=America/Toronto:20250706T090000
DTEND;TZID=America/Toronto:20250706T140000
DTSTAMP:20260422T063248
CREATED:20250505T152550Z
LAST-MODIFIED:20250622T163928Z
UID:10001597-1751792400-1751810400@www.bigbaypointgolf.com
SUMMARY:Open to the Public Pickleball
DESCRIPTION:Pickleball $5 per guests Sunday and Thursdays 9-2 PM \nCall to book your 1 hour court time with your group 705-436-1378
URL:https://www.bigbaypointgolf.com/event/open-to-the-public-pickleball/2025-07-06/
CATEGORIES:Guest Events
END:VEVENT
BEGIN:VEVENT
DTSTART;TZID=America/Toronto:20250703T090000
DTEND;TZID=America/Toronto:20250703T140000
DTSTAMP:20260422T063248
CREATED:20250505T152920Z
LAST-MODIFIED:20250622T153651Z
UID:10001588-1751533200-1751551200@www.bigbaypointgolf.com
SUMMARY:Open to the Public Pickleball
DESCRIPTION:Pickleball $5 per guests Sunday and Thursdays  9-2 PM \nCall to book your 1 hour court time with your group 705-436-1378
URL:https://www.bigbaypointgolf.com/event/open-to-the-public-pickleball-2/2025-07-03/
CATEGORIES:Guest Events
END:VEVENT
BEGIN:VEVENT
DTSTART;TZID=America/Toronto:20250629T090000
DTEND;TZID=America/Toronto:20250629T140000
DTSTAMP:20260422T063248
CREATED:20250505T152550Z
LAST-MODIFIED:20250622T163928Z
UID:10001596-1751187600-1751205600@www.bigbaypointgolf.com
SUMMARY:Open to the Public Pickleball
DESCRIPTION:Pickleball $5 per guests Sunday and Thursdays 9-2 PM \nCall to book your 1 hour court time with your group 705-436-1378
URL:https://www.bigbaypointgolf.com/event/open-to-the-public-pickleball/2025-06-29/
CATEGORIES:Guest Events
END:VEVENT
BEGIN:VEVENT
DTSTART;TZID=America/Toronto:20250622T100000
DTEND;TZID=America/Toronto:20250622T140000
DTSTAMP:20260422T063248
CREATED:20250422T171723Z
LAST-MODIFIED:20250422T171811Z
UID:10001328-1750586400-1750600800@www.bigbaypointgolf.com
SUMMARY:Community Golf
DESCRIPTION:$30 +hst Call the Pro Shop to book your tee time 705-436-1378
URL:https://www.bigbaypointgolf.com/event/community-golf/
CATEGORIES:Guest Events
END:VEVENT
BEGIN:VEVENT
DTSTART;TZID=America/Toronto:20250621T100000
DTEND;TZID=America/Toronto:20250621T140000
DTSTAMP:20260422T063248
CREATED:20250505T144623Z
LAST-MODIFIED:20250505T144623Z
UID:10001528-1750500000-1750514400@www.bigbaypointgolf.com
SUMMARY:Community Golf $30
DESCRIPTION:$30 +hst – Open to the public – Call the Pro Shop to book your tee time 705-436-1378
URL:https://www.bigbaypointgolf.com/event/community-golf-30/
CATEGORIES:Guest Events
END:VEVENT
BEGIN:VEVENT
DTSTART;TZID=America/Toronto:20250608T110000
DTEND;TZID=America/Toronto:20250608T140000
DTSTAMP:20260422T063248
CREATED:20250422T171231Z
LAST-MODIFIED:20250422T171231Z
UID:10001326-1749380400-1749391200@www.bigbaypointgolf.com
SUMMARY:Women Try Golf
DESCRIPTION:
URL:https://www.bigbaypointgolf.com/event/women-try-golf-2/
CATEGORIES:Guest Events
END:VEVENT
BEGIN:VEVENT
DTSTART;TZID=America/Toronto:20250525T100000
DTEND;TZID=America/Toronto:20250525T140000
DTSTAMP:20260422T063248
CREATED:20250505T144856Z
LAST-MODIFIED:20250505T144856Z
UID:10001530-1748167200-1748181600@www.bigbaypointgolf.com
SUMMARY:Community Spring Golf
DESCRIPTION:$30 +hst Call the Pro Shop to book your tee time 705-436-1378
URL:https://www.bigbaypointgolf.com/event/community-spring-golf-2/
CATEGORIES:Guest Events
END:VEVENT
BEGIN:VEVENT
DTSTART;TZID=America/Toronto:20250524T100000
DTEND;TZID=America/Toronto:20250524T140000
DTSTAMP:20260422T063248
CREATED:20250505T144751Z
LAST-MODIFIED:20250505T144751Z
UID:10001529-1748080800-1748095200@www.bigbaypointgolf.com
SUMMARY:Community Spring Golf
DESCRIPTION:$30 +hst Call the Pro Shop to book your tee time 705-436-1378
URL:https://www.bigbaypointgolf.com/event/community-spring-golf/
CATEGORIES:Guest Events
END:VEVENT
BEGIN:VEVENT
DTSTART;TZID=America/Toronto:20250505T100000
DTEND;TZID=America/Toronto:20250505T150000
DTSTAMP:20260422T063248
CREATED:20250422T170006Z
LAST-MODIFIED:20250422T170006Z
UID:10001322-1746439200-1746457200@www.bigbaypointgolf.com
SUMMARY:Pro Shop is Open
DESCRIPTION:Call the Pro Shop to book your tee time and check course conditions.
URL:https://www.bigbaypointgolf.com/event/pro-shop-is-open/
CATEGORIES:Guest Events
END:VEVENT
BEGIN:VEVENT
DTSTART;TZID=America/Toronto:20241107T080000
DTEND;TZID=America/Toronto:20241107T170000
DTSTAMP:20260422T063248
CREATED:20240929T171409Z
LAST-MODIFIED:20241018T162446Z
UID:10001318-1730966400-1730998800@www.bigbaypointgolf.com
SUMMARY:Blow Out of the Irrigation System - Course Closed
DESCRIPTION:The maintenance team will be blowing out the irrigation system – Course Closed until this task is completed.
URL:https://www.bigbaypointgolf.com/event/blow-out-of-the-irrigation-system-course-closed/
CATEGORIES:Guest Events,Member Events
END:VEVENT
BEGIN:VEVENT
DTSTART;TZID=America/Toronto:20241020T100000
DTEND;TZID=America/Toronto:20241020T130000
DTSTAMP:20260422T063248
CREATED:20241018T162308Z
LAST-MODIFIED:20241018T162308Z
UID:10001321-1729418400-1729429200@www.bigbaypointgolf.com
SUMMARY:Public Pay to Play
DESCRIPTION:🍂 Fall End of Season Public Play at Big Bay Point Golf Club! ⛳ \nWith a warm weekend ahead\, we’re excited to announce that select tee times have been opened up for Public Pay to Play Friday-Sunday! 🌞 Invite your friends\, family\, and neighbours to experience our prestigious course for just $40 + HST for 9 holes. \n📍 Location: 3612 30th Sideroad\, Innisfil\, L9S 2Y6\n📞 Call us now to book your spot: 705-436-1378 \nDon’t miss out on this special opportunity to enjoy some fall golf! 🍁 #PublicGolf #FallGolf #BigBayPointGolfClub #PlayToJoin
URL:https://www.bigbaypointgolf.com/event/public-pay-to-play/2024-10-20/
CATEGORIES:Guest Events
END:VEVENT
BEGIN:VEVENT
DTSTART;TZID=America/Toronto:20241019T100000
DTEND;TZID=America/Toronto:20241019T130000
DTSTAMP:20260422T063248
CREATED:20241018T162308Z
LAST-MODIFIED:20241018T162308Z
UID:10001320-1729332000-1729342800@www.bigbaypointgolf.com
SUMMARY:Public Pay to Play
DESCRIPTION:🍂 Fall End of Season Public Play at Big Bay Point Golf Club! ⛳ \nWith a warm weekend ahead\, we’re excited to announce that select tee times have been opened up for Public Pay to Play Friday-Sunday! 🌞 Invite your friends\, family\, and neighbours to experience our prestigious course for just $40 + HST for 9 holes. \n📍 Location: 3612 30th Sideroad\, Innisfil\, L9S 2Y6\n📞 Call us now to book your spot: 705-436-1378 \nDon’t miss out on this special opportunity to enjoy some fall golf! 🍁 #PublicGolf #FallGolf #BigBayPointGolfClub #PlayToJoin
URL:https://www.bigbaypointgolf.com/event/public-pay-to-play/2024-10-19/
CATEGORIES:Guest Events
END:VEVENT
BEGIN:VEVENT
DTSTART;TZID=America/Toronto:20241018T100000
DTEND;TZID=America/Toronto:20241018T130000
DTSTAMP:20260422T063248
CREATED:20241018T162308Z
LAST-MODIFIED:20241018T162308Z
UID:10001319-1729245600-1729256400@www.bigbaypointgolf.com
SUMMARY:Public Pay to Play
DESCRIPTION:🍂 Fall End of Season Public Play at Big Bay Point Golf Club! ⛳ \nWith a warm weekend ahead\, we’re excited to announce that select tee times have been opened up for Public Pay to Play Friday-Sunday! 🌞 Invite your friends\, family\, and neighbours to experience our prestigious course for just $40 + HST for 9 holes. \n📍 Location: 3612 30th Sideroad\, Innisfil\, L9S 2Y6\n📞 Call us now to book your spot: 705-436-1378 \nDon’t miss out on this special opportunity to enjoy some fall golf! 🍁 #PublicGolf #FallGolf #BigBayPointGolfClub #PlayToJoin
URL:https://www.bigbaypointgolf.com/event/public-pay-to-play/2024-10-18/
CATEGORIES:Guest Events
END:VEVENT
BEGIN:VEVENT
DTSTART;VALUE=DATE:20241015
DTEND;VALUE=DATE:20241016
DTSTAMP:20260422T063248
CREATED:20240823T194921Z
LAST-MODIFIED:20240823T194921Z
UID:10001306-1728950400-1729036799@www.bigbaypointgolf.com
SUMMARY:Pro Shop Starts Closing for the Season
DESCRIPTION:
URL:https://www.bigbaypointgolf.com/event/pro-shop-starts-closing-for-the-season/
CATEGORIES:Guest Events,Member Events
END:VEVENT
BEGIN:VEVENT
DTSTART;TZID=America/Toronto:20240921T120000
DTEND;TZID=America/Toronto:20240921T160000
DTSTAMP:20260422T063248
CREATED:20240905T172912Z
LAST-MODIFIED:20240905T172912Z
UID:10001307-1726920000-1726934400@www.bigbaypointgolf.com
SUMMARY:Public Tournament - Course Closed
DESCRIPTION:Course closed 12pm to close.
URL:https://www.bigbaypointgolf.com/event/public-tournament-course-closed/
CATEGORIES:Guest Events
END:VEVENT
BEGIN:VEVENT
DTSTART;TZID=America/Toronto:20240920T100000
DTEND;TZID=America/Toronto:20240920T120000
DTSTAMP:20260422T063248
CREATED:20240813T181255Z
LAST-MODIFIED:20240813T181337Z
UID:10001304-1726826400-1726833600@www.bigbaypointgolf.com
SUMMARY:Mini Tournament Hosted by Member - Course Open
DESCRIPTION:
URL:https://www.bigbaypointgolf.com/event/mini-member-tournament-course-open/
CATEGORIES:Guest Events
END:VEVENT
BEGIN:VEVENT
DTSTART;TZID=America/Toronto:20240803T173000
DTEND;TZID=America/Toronto:20240803T230000
DTSTAMP:20260422T063248
CREATED:20240508T172412Z
LAST-MODIFIED:20240623T215203Z
UID:10001278-1722706200-1722726000@www.bigbaypointgolf.com
SUMMARY:100 Year Anniversary Gala
DESCRIPTION:You are Invited \nPlease join us for the\nBig Bay Point Golf & Country Club \n100 YEAR\nANNIVERSARY GALA \nAugust 3\nBig Bay Point Golf & Country Club \n5:30 PM – Cocktails & Appetizers\n7:00 PM – Sit Down Dinner\nFollowed by dancing \nDress Code: Cottage Chic \nPrice: $150+HST per person\n(cash/chit bar) \nThis is a 13+ event \nMeal Selection – please choose from the following: \n8 oz AAA New York Striploin\nwith parsley and garlic sauteed tiger shrimp\, served with sauteed greens and buttered vegetable bundles (heirloom carrot\, French beans\, and yellow peppers)\, finished with chive beurre blanc.\n\nOR \nBreast of Chicken\nstuffed with roasted peppers and goats cheese served with a thyme cream sauce served with sautéed greens and buttered vegetable bundles (heirloom carrot\, French beans\, and yellow peppers)\, finished with chive beurre blanc.\n\n*Vegetarian/Vegan option is available \nPlease RSVP by June 30 to pr*****@*************lf.com with the following details \nAttendee Name(s)\nMeal Selection\nDietary Restrictions
URL:https://www.bigbaypointgolf.com/event/mid-summer-we-are-going-to-party-like-its-1924-anniversary-party/
CATEGORIES:Guest Events,Member Events
END:VEVENT
END:VCALENDAR