BEGIN:VCALENDAR
VERSION:2.0
PRODID:-//Big Bay Point Golf Club - ECPv6.15.20//NONSGML v1.0//EN
CALSCALE:GREGORIAN
METHOD:PUBLISH
X-WR-CALNAME:Big Bay Point Golf Club
X-ORIGINAL-URL:https://www.bigbaypointgolf.com
X-WR-CALDESC:Events for Big Bay Point Golf Club
REFRESH-INTERVAL;VALUE=DURATION:PT1H
X-Robots-Tag:noindex
X-PUBLISHED-TTL:PT1H
BEGIN:VTIMEZONE
TZID:America/Toronto
BEGIN:DAYLIGHT
TZOFFSETFROM:-0500
TZOFFSETTO:-0400
TZNAME:EDT
DTSTART:20230312T070000
END:DAYLIGHT
BEGIN:STANDARD
TZOFFSETFROM:-0400
TZOFFSETTO:-0500
TZNAME:EST
DTSTART:20231105T060000
END:STANDARD
BEGIN:DAYLIGHT
TZOFFSETFROM:-0500
TZOFFSETTO:-0400
TZNAME:EDT
DTSTART:20240310T070000
END:DAYLIGHT
BEGIN:STANDARD
TZOFFSETFROM:-0400
TZOFFSETTO:-0500
TZNAME:EST
DTSTART:20241103T060000
END:STANDARD
BEGIN:DAYLIGHT
TZOFFSETFROM:-0500
TZOFFSETTO:-0400
TZNAME:EDT
DTSTART:20250309T070000
END:DAYLIGHT
BEGIN:STANDARD
TZOFFSETFROM:-0400
TZOFFSETTO:-0500
TZNAME:EST
DTSTART:20251102T060000
END:STANDARD
END:VTIMEZONE
BEGIN:VEVENT
DTSTART;TZID=America/Toronto:20240923T100000
DTEND;TZID=America/Toronto:20240923T120000
DTSTAMP:20260421T145447
CREATED:20240929T162000Z
LAST-MODIFIED:20240929T162325Z
UID:10001311-1727085600-1727092800@www.bigbaypointgolf.com
SUMMARY:Scramble
DESCRIPTION:Scramble Format Golf Event- Lunch catered by Robert Saunders from The Cove Café – served on the Patio – Patio is reserved for the Scramble 12pm – 2pm.
URL:https://www.bigbaypointgolf.com/event/scramble-with-the-exception-of-holiday-mondays-2/2024-09-23/
CATEGORIES:League
END:VEVENT
BEGIN:VEVENT
DTSTART;TZID=America/Toronto:20240921T120000
DTEND;TZID=America/Toronto:20240921T160000
DTSTAMP:20260421T145447
CREATED:20240905T172912Z
LAST-MODIFIED:20240905T172912Z
UID:10001307-1726920000-1726934400@www.bigbaypointgolf.com
SUMMARY:Public Tournament - Course Closed
DESCRIPTION:Course closed 12pm to close.
URL:https://www.bigbaypointgolf.com/event/public-tournament-course-closed/
CATEGORIES:Guest Events
END:VEVENT
BEGIN:VEVENT
DTSTART;TZID=America/Toronto:20240920T100000
DTEND;TZID=America/Toronto:20240920T120000
DTSTAMP:20260421T145447
CREATED:20240813T181255Z
LAST-MODIFIED:20240813T181337Z
UID:10001304-1726826400-1726833600@www.bigbaypointgolf.com
SUMMARY:Mini Tournament Hosted by Member - Course Open
DESCRIPTION:
URL:https://www.bigbaypointgolf.com/event/mini-member-tournament-course-open/
CATEGORIES:Guest Events
END:VEVENT
BEGIN:VEVENT
DTSTART;TZID=America/Toronto:20240916T100000
DTEND;TZID=America/Toronto:20240916T120000
DTSTAMP:20260421T145447
CREATED:20240929T162000Z
LAST-MODIFIED:20240929T162325Z
UID:10001310-1726480800-1726488000@www.bigbaypointgolf.com
SUMMARY:Scramble
DESCRIPTION:Scramble Format Golf Event- Lunch catered by Robert Saunders from The Cove Café – served on the Patio – Patio is reserved for the Scramble 12pm – 2pm.
URL:https://www.bigbaypointgolf.com/event/scramble-with-the-exception-of-holiday-mondays-2/2024-09-16/
CATEGORIES:League
END:VEVENT
BEGIN:VEVENT
DTSTART;TZID=America/Toronto:20240909T100000
DTEND;TZID=America/Toronto:20240909T120000
DTSTAMP:20260421T145447
CREATED:20240929T162000Z
LAST-MODIFIED:20240929T162325Z
UID:10001309-1725876000-1725883200@www.bigbaypointgolf.com
SUMMARY:Scramble
DESCRIPTION:Scramble Format Golf Event- Lunch catered by Robert Saunders from The Cove Café – served on the Patio – Patio is reserved for the Scramble 12pm – 2pm.
URL:https://www.bigbaypointgolf.com/event/scramble-with-the-exception-of-holiday-mondays-2/2024-09-09/
CATEGORIES:League
END:VEVENT
BEGIN:VEVENT
DTSTART;VALUE=DATE:20240902
DTEND;VALUE=DATE:20240903
DTSTAMP:20260421T145447
CREATED:20240311T171442Z
LAST-MODIFIED:20240311T171442Z
UID:10000591-1725235200-1725321599@www.bigbaypointgolf.com
SUMMARY:Labour Day
DESCRIPTION:
URL:https://www.bigbaypointgolf.com/event/labour-day-2/
CATEGORIES:Holiday
END:VEVENT
BEGIN:VEVENT
DTSTART;TZID=America/Toronto:20240901T140000
DTEND;TZID=America/Toronto:20240901T160000
DTSTAMP:20260421T145447
CREATED:20240712T135256Z
LAST-MODIFIED:20240712T135256Z
UID:10001300-1725199200-1725206400@www.bigbaypointgolf.com
SUMMARY:Pickleball 2-4pm
DESCRIPTION:
URL:https://www.bigbaypointgolf.com/event/pickleball-2-4pm/2024-09-01/
CATEGORIES:League,Member Events
END:VEVENT
BEGIN:VEVENT
DTSTART;TZID=America/Toronto:20240901T090000
DTEND;TZID=America/Toronto:20240901T160000
DTSTAMP:20260421T145447
CREATED:20240311T171017Z
LAST-MODIFIED:20240406T140647Z
UID:10001275-1725181200-1725206400@www.bigbaypointgolf.com
SUMMARY:Men's League
DESCRIPTION:
URL:https://www.bigbaypointgolf.com/event/mens-league/2024-09-01/
CATEGORIES:League
END:VEVENT
BEGIN:VEVENT
DTSTART;TZID=America/Toronto:20240831T170000
DTEND;TZID=America/Toronto:20240831T190000
DTSTAMP:20260421T145447
CREATED:20240311T172016Z
LAST-MODIFIED:20240623T214526Z
UID:10000602-1725123600-1725130800@www.bigbaypointgolf.com
SUMMARY:Closing Prize Night
DESCRIPTION:RSVP by email pr*****@*************lf.com or by phone 705-436-1378
URL:https://www.bigbaypointgolf.com/event/closing-prize-night-2/
CATEGORIES:Member Events
END:VEVENT
BEGIN:VEVENT
DTSTART;TZID=America/Toronto:20240831T090000
DTEND;TZID=America/Toronto:20240831T160000
DTSTAMP:20260421T145447
CREATED:20240311T171017Z
LAST-MODIFIED:20240406T140647Z
UID:10000590-1725094800-1725120000@www.bigbaypointgolf.com
SUMMARY:Men's League
DESCRIPTION:
URL:https://www.bigbaypointgolf.com/event/mens-league/2024-08-31/
CATEGORIES:League
END:VEVENT
BEGIN:VEVENT
DTSTART;TZID=America/Toronto:20240830T090000
DTEND;TZID=America/Toronto:20240830T160000
DTSTAMP:20260421T145447
CREATED:20240311T171017Z
LAST-MODIFIED:20240406T140647Z
UID:10000589-1725008400-1725033600@www.bigbaypointgolf.com
SUMMARY:Men's League
DESCRIPTION:
URL:https://www.bigbaypointgolf.com/event/mens-league/2024-08-30/
CATEGORIES:League
END:VEVENT
BEGIN:VEVENT
DTSTART;TZID=America/Toronto:20240829T090000
DTEND;TZID=America/Toronto:20240829T160000
DTSTAMP:20260421T145447
CREATED:20240311T171017Z
LAST-MODIFIED:20240406T140647Z
UID:10000588-1724922000-1724947200@www.bigbaypointgolf.com
SUMMARY:Men's League
DESCRIPTION:
URL:https://www.bigbaypointgolf.com/event/mens-league/2024-08-29/
CATEGORIES:League
END:VEVENT
BEGIN:VEVENT
DTSTART;TZID=America/Toronto:20240829T080000
DTEND;TZID=America/Toronto:20240829T100000
DTSTAMP:20260421T145447
CREATED:20240710T141942Z
LAST-MODIFIED:20240710T141942Z
UID:10001266-1724918400-1724925600@www.bigbaypointgolf.com
SUMMARY:Golf Lessons with Jack Healey
DESCRIPTION:
URL:https://www.bigbaypointgolf.com/event/golf-lessons-with-jack-healey-2/2024-08-29/
CATEGORIES:Lessons
END:VEVENT
BEGIN:VEVENT
DTSTART;TZID=America/Toronto:20240828T080000
DTEND;TZID=America/Toronto:20240828T100000
DTSTAMP:20260421T145447
CREATED:20240710T141942Z
LAST-MODIFIED:20240710T141942Z
UID:10001292-1724832000-1724839200@www.bigbaypointgolf.com
SUMMARY:Golf Lessons with Jack Healey
DESCRIPTION:
URL:https://www.bigbaypointgolf.com/event/golf-lessons-with-jack-healey-2/2024-08-28/
CATEGORIES:Lessons
END:VEVENT
BEGIN:VEVENT
DTSTART;TZID=America/Toronto:20240827T080000
DTEND;TZID=America/Toronto:20240827T140000
DTSTAMP:20260421T145447
CREATED:20240311T171703Z
LAST-MODIFIED:20250422T180902Z
UID:10000600-1724745600-1724767200@www.bigbaypointgolf.com
SUMMARY:Ladies Day - Course Closed until 1:00pm
DESCRIPTION:Ladies Day 9 hole Golf and Lunch on the Patio – Catered by Robert Saunders from The Cove Café. Course Closed until 1pm. Patio is reserved until 2pm for the ladies.
URL:https://www.bigbaypointgolf.com/event/ladies-day-course-closed-until-1230pm/2024-08-27/
CATEGORIES:League
END:VEVENT
BEGIN:VEVENT
DTSTART;TZID=America/Toronto:20240826T100000
DTEND;TZID=America/Toronto:20240826T120000
DTSTAMP:20260421T145447
CREATED:20240929T162000Z
LAST-MODIFIED:20240929T162325Z
UID:10000620-1724666400-1724673600@www.bigbaypointgolf.com
SUMMARY:Scramble
DESCRIPTION:Scramble Format Golf Event- Lunch catered by Robert Saunders from The Cove Café – served on the Patio – Patio is reserved for the Scramble 12pm – 2pm.
URL:https://www.bigbaypointgolf.com/event/scramble-with-the-exception-of-holiday-mondays-2/2024-08-26/
CATEGORIES:League
END:VEVENT
BEGIN:VEVENT
DTSTART;TZID=America/Toronto:20240825T140000
DTEND;TZID=America/Toronto:20240825T160000
DTSTAMP:20260421T145447
CREATED:20240712T135256Z
LAST-MODIFIED:20240712T135256Z
UID:10001299-1724594400-1724601600@www.bigbaypointgolf.com
SUMMARY:Pickleball 2-4pm
DESCRIPTION:
URL:https://www.bigbaypointgolf.com/event/pickleball-2-4pm/2024-08-25/
CATEGORIES:League,Member Events
END:VEVENT
BEGIN:VEVENT
DTSTART;TZID=America/Toronto:20240825T103000
DTEND;TZID=America/Toronto:20240825T123000
DTSTAMP:20260421T145447
CREATED:20240823T194357Z
LAST-MODIFIED:20240823T213843Z
UID:10001305-1724581800-1724589000@www.bigbaypointgolf.com
SUMMARY:Parent/Child - Course Closed
DESCRIPTION:Parent/Child Event for Full Members Followed by Pizza and Prizes. Course Closed for this event.
URL:https://www.bigbaypointgolf.com/event/parent-child-2/
CATEGORIES:Member Events
END:VEVENT
BEGIN:VEVENT
DTSTART;TZID=America/Toronto:20240825T090000
DTEND;TZID=America/Toronto:20240825T160000
DTSTAMP:20260421T145447
CREATED:20240311T171017Z
LAST-MODIFIED:20240406T140647Z
UID:10001274-1724576400-1724601600@www.bigbaypointgolf.com
SUMMARY:Men's League
DESCRIPTION:
URL:https://www.bigbaypointgolf.com/event/mens-league/2024-08-25/
CATEGORIES:League
END:VEVENT
BEGIN:VEVENT
DTSTART;TZID=America/Toronto:20240825T090000
DTEND;TZID=America/Toronto:20240825T130000
DTSTAMP:20260421T145447
CREATED:20240311T172832Z
LAST-MODIFIED:20240311T172832Z
UID:10000604-1724576400-1724590800@www.bigbaypointgolf.com
SUMMARY:Captain's Cup Final
DESCRIPTION:
URL:https://www.bigbaypointgolf.com/event/captains-cup-final-3/
CATEGORIES:Men's Tournament
END:VEVENT
BEGIN:VEVENT
DTSTART;TZID=America/Toronto:20240824T120000
DTEND;TZID=America/Toronto:20240824T180000
DTSTAMP:20260421T145447
CREATED:20240311T173046Z
LAST-MODIFIED:20240823T212625Z
UID:10000605-1724500800-1724522400@www.bigbaypointgolf.com
SUMMARY:Men's Club Championship - Gooch Trophy - COURSE CLOSED at 12pm
DESCRIPTION:Course Closes at 12 PM – Everyone OFF\, Maintenance will change the holes from 12-1 PM – The Match will begin at 1 PM. Members are welcome to come out and watch.
URL:https://www.bigbaypointgolf.com/event/mens-club-championship-gooch-trophy-course-closed-at-12pm/
CATEGORIES:Men's Tournament
END:VEVENT
BEGIN:VEVENT
DTSTART;TZID=America/Toronto:20240824T090000
DTEND;TZID=America/Toronto:20240824T160000
DTSTAMP:20260421T145447
CREATED:20240311T171017Z
LAST-MODIFIED:20240406T140647Z
UID:10000586-1724490000-1724515200@www.bigbaypointgolf.com
SUMMARY:Men's League
DESCRIPTION:
URL:https://www.bigbaypointgolf.com/event/mens-league/2024-08-24/
CATEGORIES:League
END:VEVENT
BEGIN:VEVENT
DTSTART;TZID=America/Toronto:20240823T090000
DTEND;TZID=America/Toronto:20240823T160000
DTSTAMP:20260421T145447
CREATED:20240311T171017Z
LAST-MODIFIED:20240406T140647Z
UID:10000585-1724403600-1724428800@www.bigbaypointgolf.com
SUMMARY:Men's League
DESCRIPTION:
URL:https://www.bigbaypointgolf.com/event/mens-league/2024-08-23/
CATEGORIES:League
END:VEVENT
BEGIN:VEVENT
DTSTART;TZID=America/Toronto:20240822T090000
DTEND;TZID=America/Toronto:20240822T160000
DTSTAMP:20260421T145447
CREATED:20240311T171017Z
LAST-MODIFIED:20240406T140647Z
UID:10000584-1724317200-1724342400@www.bigbaypointgolf.com
SUMMARY:Men's League
DESCRIPTION:
URL:https://www.bigbaypointgolf.com/event/mens-league/2024-08-22/
CATEGORIES:League
END:VEVENT
BEGIN:VEVENT
DTSTART;TZID=America/Toronto:20240822T080000
DTEND;TZID=America/Toronto:20240822T100000
DTSTAMP:20260421T145447
CREATED:20240710T141942Z
LAST-MODIFIED:20240710T141942Z
UID:10001264-1724313600-1724320800@www.bigbaypointgolf.com
SUMMARY:Golf Lessons with Jack Healey
DESCRIPTION:
URL:https://www.bigbaypointgolf.com/event/golf-lessons-with-jack-healey-2/2024-08-22/
CATEGORIES:Lessons
END:VEVENT
BEGIN:VEVENT
DTSTART;TZID=America/Toronto:20240821T080000
DTEND;TZID=America/Toronto:20240821T140000
DTSTAMP:20260421T145447
CREATED:20240311T181358Z
LAST-MODIFIED:20240406T141715Z
UID:10000653-1724227200-1724248800@www.bigbaypointgolf.com
SUMMARY:Tennis Lessons with Dale Avery
DESCRIPTION:
URL:https://www.bigbaypointgolf.com/event/tennis-lessons/2024-08-21/
CATEGORIES:Lessons
END:VEVENT
BEGIN:VEVENT
DTSTART;TZID=America/Toronto:20240821T080000
DTEND;TZID=America/Toronto:20240821T100000
DTSTAMP:20260421T145447
CREATED:20240710T141942Z
LAST-MODIFIED:20240710T141942Z
UID:10001291-1724227200-1724234400@www.bigbaypointgolf.com
SUMMARY:Golf Lessons with Jack Healey
DESCRIPTION:
URL:https://www.bigbaypointgolf.com/event/golf-lessons-with-jack-healey-2/2024-08-21/
CATEGORIES:Lessons
END:VEVENT
BEGIN:VEVENT
DTSTART;TZID=America/Toronto:20240820T080000
DTEND;TZID=America/Toronto:20240820T140000
DTSTAMP:20260421T145447
CREATED:20240311T181358Z
LAST-MODIFIED:20240406T141715Z
UID:10000652-1724140800-1724162400@www.bigbaypointgolf.com
SUMMARY:Tennis Lessons with Dale Avery
DESCRIPTION:
URL:https://www.bigbaypointgolf.com/event/tennis-lessons/2024-08-20/
CATEGORIES:Lessons
END:VEVENT
BEGIN:VEVENT
DTSTART;TZID=America/Toronto:20240820T080000
DTEND;TZID=America/Toronto:20240820T140000
DTSTAMP:20260421T145447
CREATED:20240311T171703Z
LAST-MODIFIED:20250422T180902Z
UID:10000599-1724140800-1724162400@www.bigbaypointgolf.com
SUMMARY:Ladies Day - Course Closed until 1:00pm
DESCRIPTION:Ladies Day 9 hole Golf and Lunch on the Patio – Catered by Robert Saunders from The Cove Café. Course Closed until 1pm. Patio is reserved until 2pm for the ladies.
URL:https://www.bigbaypointgolf.com/event/ladies-day-course-closed-until-1230pm/2024-08-20/
CATEGORIES:League
END:VEVENT
BEGIN:VEVENT
DTSTART;TZID=America/Toronto:20240819T100000
DTEND;TZID=America/Toronto:20240819T120000
DTSTAMP:20260421T145447
CREATED:20240311T173907Z
LAST-MODIFIED:20240813T180814Z
UID:10000619-1724061600-1724068800@www.bigbaypointgolf.com
SUMMARY:Scramble
DESCRIPTION:Scramble Format Golf Event- Lunch catered by Robert Saunders from The Cove Café – served on the Patio – Patio is reserved for the Scramble 12pm – 2pm.
URL:https://www.bigbaypointgolf.com/event/scramble-with-the-exception-of-holiday-mondays/2024-08-19/
CATEGORIES:League
END:VEVENT
END:VCALENDAR