BEGIN:VCALENDAR
VERSION:2.0
PRODID:-//Big Bay Point Golf Club - ECPv6.15.20//NONSGML v1.0//EN
CALSCALE:GREGORIAN
METHOD:PUBLISH
X-WR-CALNAME:Big Bay Point Golf Club
X-ORIGINAL-URL:https://www.bigbaypointgolf.com
X-WR-CALDESC:Events for Big Bay Point Golf Club
REFRESH-INTERVAL;VALUE=DURATION:PT1H
X-Robots-Tag:noindex
X-PUBLISHED-TTL:PT1H
BEGIN:VTIMEZONE
TZID:America/Toronto
BEGIN:DAYLIGHT
TZOFFSETFROM:-0500
TZOFFSETTO:-0400
TZNAME:EDT
DTSTART:20230312T070000
END:DAYLIGHT
BEGIN:STANDARD
TZOFFSETFROM:-0400
TZOFFSETTO:-0500
TZNAME:EST
DTSTART:20231105T060000
END:STANDARD
BEGIN:DAYLIGHT
TZOFFSETFROM:-0500
TZOFFSETTO:-0400
TZNAME:EDT
DTSTART:20240310T070000
END:DAYLIGHT
BEGIN:STANDARD
TZOFFSETFROM:-0400
TZOFFSETTO:-0500
TZNAME:EST
DTSTART:20241103T060000
END:STANDARD
BEGIN:DAYLIGHT
TZOFFSETFROM:-0500
TZOFFSETTO:-0400
TZNAME:EDT
DTSTART:20250309T070000
END:DAYLIGHT
BEGIN:STANDARD
TZOFFSETFROM:-0400
TZOFFSETTO:-0500
TZNAME:EST
DTSTART:20251102T060000
END:STANDARD
END:VTIMEZONE
BEGIN:VEVENT
DTSTART;TZID=America/Toronto:20240807T080000
DTEND;TZID=America/Toronto:20240807T140000
DTSTAMP:20260421T175500
CREATED:20240311T181358Z
LAST-MODIFIED:20240406T141715Z
UID:10000649-1723017600-1723039200@www.bigbaypointgolf.com
SUMMARY:Tennis Lessons with Dale Avery
DESCRIPTION:
URL:https://www.bigbaypointgolf.com/event/tennis-lessons/2024-08-07/
CATEGORIES:Lessons
END:VEVENT
BEGIN:VEVENT
DTSTART;TZID=America/Toronto:20240807T080000
DTEND;TZID=America/Toronto:20240807T100000
DTSTAMP:20260421T175500
CREATED:20240710T141942Z
LAST-MODIFIED:20240710T141942Z
UID:10001289-1723017600-1723024800@www.bigbaypointgolf.com
SUMMARY:Golf Lessons with Jack Healey
DESCRIPTION:
URL:https://www.bigbaypointgolf.com/event/golf-lessons-with-jack-healey-2/2024-08-07/
CATEGORIES:Lessons
END:VEVENT
BEGIN:VEVENT
DTSTART;TZID=America/Toronto:20240806T080000
DTEND;TZID=America/Toronto:20240806T140000
DTSTAMP:20260421T175500
CREATED:20240311T181358Z
LAST-MODIFIED:20240406T141715Z
UID:10000648-1722931200-1722952800@www.bigbaypointgolf.com
SUMMARY:Tennis Lessons with Dale Avery
DESCRIPTION:
URL:https://www.bigbaypointgolf.com/event/tennis-lessons/2024-08-06/
CATEGORIES:Lessons
END:VEVENT
BEGIN:VEVENT
DTSTART;TZID=America/Toronto:20240806T080000
DTEND;TZID=America/Toronto:20240806T140000
DTSTAMP:20260421T175500
CREATED:20240311T171703Z
LAST-MODIFIED:20250422T180902Z
UID:10000597-1722931200-1722952800@www.bigbaypointgolf.com
SUMMARY:Ladies Day - Course Closed until 1:00pm
DESCRIPTION:Ladies Day 9 hole Golf and Lunch on the Patio – Catered by Robert Saunders from The Cove Café. Course Closed until 1pm. Patio is reserved until 2pm for the ladies.
URL:https://www.bigbaypointgolf.com/event/ladies-day-course-closed-until-1230pm/2024-08-06/
CATEGORIES:League
END:VEVENT
BEGIN:VEVENT
DTSTART;TZID=America/Toronto:20240805T080000
DTEND;TZID=America/Toronto:20240805T170000
DTSTAMP:20260421T175500
CREATED:20240311T173452Z
LAST-MODIFIED:20240623T204855Z
UID:10000607-1722844800-1722877200@www.bigbaypointgolf.com
SUMMARY:Civic Holiday
DESCRIPTION:
URL:https://www.bigbaypointgolf.com/event/civic-day-2/
CATEGORIES:Holiday
END:VEVENT
BEGIN:VEVENT
DTSTART;TZID=America/Toronto:20240804T140000
DTEND;TZID=America/Toronto:20240804T160000
DTSTAMP:20260421T175500
CREATED:20240712T135256Z
LAST-MODIFIED:20240712T135256Z
UID:10001296-1722780000-1722787200@www.bigbaypointgolf.com
SUMMARY:Pickleball 2-4pm
DESCRIPTION:
URL:https://www.bigbaypointgolf.com/event/pickleball-2-4pm/2024-08-04/
CATEGORIES:League,Member Events
END:VEVENT
BEGIN:VEVENT
DTSTART;TZID=America/Toronto:20240804T110000
DTEND;TZID=America/Toronto:20240804T140000
DTSTAMP:20260421T175500
CREATED:20240623T202242Z
LAST-MODIFIED:20240623T214647Z
UID:10001282-1722769200-1722780000@www.bigbaypointgolf.com
SUMMARY:Under the Big Tent
DESCRIPTION:August 4 – 11:00-2:00 Family Fun – “Under the Big Tent” – All ages welcome – Sign-up at the clubhouse by July 7 \n\nHappy Birthday Big Bay Point Golf & CC 100 Years Cake \nBarbecue – Hotdogs and Hamburgers for purchase\nKaraoke and games\n12:00 Children’s Soccer Golf on holes #1 & 2 – Sign-up sheet in the clubhouse\, ages 12 and under\nRaffle winners announced\n\nRSVP by email pr*****@*************lf.com or by phone 705-436-1378
URL:https://www.bigbaypointgolf.com/event/under-the-big-tent/
CATEGORIES:Member Events
END:VEVENT
BEGIN:VEVENT
DTSTART;TZID=America/Toronto:20240804T090000
DTEND;TZID=America/Toronto:20240804T160000
DTSTAMP:20260421T175500
CREATED:20240311T171017Z
LAST-MODIFIED:20240406T140647Z
UID:10001271-1722762000-1722787200@www.bigbaypointgolf.com
SUMMARY:Men's League
DESCRIPTION:
URL:https://www.bigbaypointgolf.com/event/mens-league/2024-08-04/
CATEGORIES:League
END:VEVENT
BEGIN:VEVENT
DTSTART;TZID=America/Toronto:20240803T173000
DTEND;TZID=America/Toronto:20240803T230000
DTSTAMP:20260421T175500
CREATED:20240508T172412Z
LAST-MODIFIED:20240623T215203Z
UID:10001278-1722706200-1722726000@www.bigbaypointgolf.com
SUMMARY:100 Year Anniversary Gala
DESCRIPTION:You are Invited \nPlease join us for the\nBig Bay Point Golf & Country Club \n100 YEAR\nANNIVERSARY GALA \nAugust 3\nBig Bay Point Golf & Country Club \n5:30 PM – Cocktails & Appetizers\n7:00 PM – Sit Down Dinner\nFollowed by dancing \nDress Code: Cottage Chic \nPrice: $150+HST per person\n(cash/chit bar) \nThis is a 13+ event \nMeal Selection – please choose from the following: \n8 oz AAA New York Striploin\nwith parsley and garlic sauteed tiger shrimp\, served with sauteed greens and buttered vegetable bundles (heirloom carrot\, French beans\, and yellow peppers)\, finished with chive beurre blanc.\n\nOR \nBreast of Chicken\nstuffed with roasted peppers and goats cheese served with a thyme cream sauce served with sautéed greens and buttered vegetable bundles (heirloom carrot\, French beans\, and yellow peppers)\, finished with chive beurre blanc.\n\n*Vegetarian/Vegan option is available \nPlease RSVP by June 30 to pr*****@*************lf.com with the following details \nAttendee Name(s)\nMeal Selection\nDietary Restrictions
URL:https://www.bigbaypointgolf.com/event/mid-summer-we-are-going-to-party-like-its-1924-anniversary-party/
CATEGORIES:Guest Events,Member Events
END:VEVENT
BEGIN:VEVENT
DTSTART;TZID=America/Toronto:20240803T090000
DTEND;TZID=America/Toronto:20240803T160000
DTSTAMP:20260421T175500
CREATED:20240311T171017Z
LAST-MODIFIED:20240406T140647Z
UID:10000574-1722675600-1722700800@www.bigbaypointgolf.com
SUMMARY:Men's League
DESCRIPTION:
URL:https://www.bigbaypointgolf.com/event/mens-league/2024-08-03/
CATEGORIES:League
END:VEVENT
BEGIN:VEVENT
DTSTART;TZID=America/Toronto:20240802T090000
DTEND;TZID=America/Toronto:20240802T160000
DTSTAMP:20260421T175500
CREATED:20240311T171017Z
LAST-MODIFIED:20240406T140647Z
UID:10000573-1722589200-1722614400@www.bigbaypointgolf.com
SUMMARY:Men's League
DESCRIPTION:
URL:https://www.bigbaypointgolf.com/event/mens-league/2024-08-02/
CATEGORIES:League
END:VEVENT
BEGIN:VEVENT
DTSTART;TZID=America/Toronto:20240801T090000
DTEND;TZID=America/Toronto:20240801T160000
DTSTAMP:20260421T175500
CREATED:20240311T171017Z
LAST-MODIFIED:20240406T140647Z
UID:10000572-1722502800-1722528000@www.bigbaypointgolf.com
SUMMARY:Men's League
DESCRIPTION:
URL:https://www.bigbaypointgolf.com/event/mens-league/2024-08-01/
CATEGORIES:League
END:VEVENT
BEGIN:VEVENT
DTSTART;TZID=America/Toronto:20240801T080000
DTEND;TZID=America/Toronto:20240801T100000
DTSTAMP:20260421T175500
CREATED:20240710T141942Z
LAST-MODIFIED:20240710T141942Z
UID:10001258-1722499200-1722506400@www.bigbaypointgolf.com
SUMMARY:Golf Lessons with Jack Healey
DESCRIPTION:
URL:https://www.bigbaypointgolf.com/event/golf-lessons-with-jack-healey-2/2024-08-01/
CATEGORIES:Lessons
END:VEVENT
BEGIN:VEVENT
DTSTART;TZID=America/Toronto:20240731T080000
DTEND;TZID=America/Toronto:20240731T140000
DTSTAMP:20260421T175500
CREATED:20240311T181358Z
LAST-MODIFIED:20240406T141715Z
UID:10000647-1722412800-1722434400@www.bigbaypointgolf.com
SUMMARY:Tennis Lessons with Dale Avery
DESCRIPTION:
URL:https://www.bigbaypointgolf.com/event/tennis-lessons/2024-07-31/
CATEGORIES:Lessons
END:VEVENT
BEGIN:VEVENT
DTSTART;TZID=America/Toronto:20240731T080000
DTEND;TZID=America/Toronto:20240731T100000
DTSTAMP:20260421T175500
CREATED:20240710T141942Z
LAST-MODIFIED:20240710T141942Z
UID:10001288-1722412800-1722420000@www.bigbaypointgolf.com
SUMMARY:Golf Lessons with Jack Healey
DESCRIPTION:
URL:https://www.bigbaypointgolf.com/event/golf-lessons-with-jack-healey-2/2024-07-31/
CATEGORIES:Lessons
END:VEVENT
BEGIN:VEVENT
DTSTART;TZID=America/Toronto:20240730T080000
DTEND;TZID=America/Toronto:20240730T140000
DTSTAMP:20260421T175500
CREATED:20240311T181358Z
LAST-MODIFIED:20240406T141715Z
UID:10000646-1722326400-1722348000@www.bigbaypointgolf.com
SUMMARY:Tennis Lessons with Dale Avery
DESCRIPTION:
URL:https://www.bigbaypointgolf.com/event/tennis-lessons/2024-07-30/
CATEGORIES:Lessons
END:VEVENT
BEGIN:VEVENT
DTSTART;TZID=America/Toronto:20240730T080000
DTEND;TZID=America/Toronto:20240730T140000
DTSTAMP:20260421T175500
CREATED:20240311T171703Z
LAST-MODIFIED:20250422T180902Z
UID:10000596-1722326400-1722348000@www.bigbaypointgolf.com
SUMMARY:Ladies Day - Course Closed until 1:00pm
DESCRIPTION:Ladies Day 9 hole Golf and Lunch on the Patio – Catered by Robert Saunders from The Cove Café. Course Closed until 1pm. Patio is reserved until 2pm for the ladies.
URL:https://www.bigbaypointgolf.com/event/ladies-day-course-closed-until-1230pm/2024-07-30/
CATEGORIES:League
END:VEVENT
BEGIN:VEVENT
DTSTART;TZID=America/Toronto:20240729T100000
DTEND;TZID=America/Toronto:20240729T120000
DTSTAMP:20260421T175500
CREATED:20240311T173907Z
LAST-MODIFIED:20240813T180814Z
UID:10000616-1722247200-1722254400@www.bigbaypointgolf.com
SUMMARY:Scramble
DESCRIPTION:Scramble Format Golf Event- Lunch catered by Robert Saunders from The Cove Café – served on the Patio – Patio is reserved for the Scramble 12pm – 2pm.
URL:https://www.bigbaypointgolf.com/event/scramble-with-the-exception-of-holiday-mondays/2024-07-29/
CATEGORIES:League
END:VEVENT
BEGIN:VEVENT
DTSTART;TZID=America/Toronto:20240728T140000
DTEND;TZID=America/Toronto:20240728T160000
DTSTAMP:20260421T175500
CREATED:20240712T135256Z
LAST-MODIFIED:20240712T135256Z
UID:10001295-1722175200-1722182400@www.bigbaypointgolf.com
SUMMARY:Pickleball 2-4pm
DESCRIPTION:
URL:https://www.bigbaypointgolf.com/event/pickleball-2-4pm/2024-07-28/
CATEGORIES:League,Member Events
END:VEVENT
BEGIN:VEVENT
DTSTART;TZID=America/Toronto:20240728T090000
DTEND;TZID=America/Toronto:20240728T160000
DTSTAMP:20260421T175500
CREATED:20240311T171017Z
LAST-MODIFIED:20240406T140647Z
UID:10001270-1722157200-1722182400@www.bigbaypointgolf.com
SUMMARY:Men's League
DESCRIPTION:
URL:https://www.bigbaypointgolf.com/event/mens-league/2024-07-28/
CATEGORIES:League
END:VEVENT
BEGIN:VEVENT
DTSTART;TZID=America/Toronto:20240727T090000
DTEND;TZID=America/Toronto:20240727T160000
DTSTAMP:20260421T175500
CREATED:20240311T171017Z
LAST-MODIFIED:20240406T140647Z
UID:10000570-1722070800-1722096000@www.bigbaypointgolf.com
SUMMARY:Men's League
DESCRIPTION:
URL:https://www.bigbaypointgolf.com/event/mens-league/2024-07-27/
CATEGORIES:League
END:VEVENT
BEGIN:VEVENT
DTSTART;TZID=America/Toronto:20240726T090000
DTEND;TZID=America/Toronto:20240726T160000
DTSTAMP:20260421T175500
CREATED:20240311T171017Z
LAST-MODIFIED:20240406T140647Z
UID:10000569-1721984400-1722009600@www.bigbaypointgolf.com
SUMMARY:Men's League
DESCRIPTION:
URL:https://www.bigbaypointgolf.com/event/mens-league/2024-07-26/
CATEGORIES:League
END:VEVENT
BEGIN:VEVENT
DTSTART;TZID=America/Toronto:20240725T090000
DTEND;TZID=America/Toronto:20240725T160000
DTSTAMP:20260421T175500
CREATED:20240311T171017Z
LAST-MODIFIED:20240406T140647Z
UID:10000568-1721898000-1721923200@www.bigbaypointgolf.com
SUMMARY:Men's League
DESCRIPTION:
URL:https://www.bigbaypointgolf.com/event/mens-league/2024-07-25/
CATEGORIES:League
END:VEVENT
BEGIN:VEVENT
DTSTART;TZID=America/Toronto:20240725T080000
DTEND;TZID=America/Toronto:20240725T100000
DTSTAMP:20260421T175500
CREATED:20240710T141942Z
LAST-MODIFIED:20240710T141942Z
UID:10001256-1721894400-1721901600@www.bigbaypointgolf.com
SUMMARY:Golf Lessons with Jack Healey
DESCRIPTION:
URL:https://www.bigbaypointgolf.com/event/golf-lessons-with-jack-healey-2/2024-07-25/
CATEGORIES:Lessons
END:VEVENT
BEGIN:VEVENT
DTSTART;TZID=America/Toronto:20240724T080000
DTEND;TZID=America/Toronto:20240724T140000
DTSTAMP:20260421T175500
CREATED:20240311T181358Z
LAST-MODIFIED:20240406T141715Z
UID:10000645-1721808000-1721829600@www.bigbaypointgolf.com
SUMMARY:Tennis Lessons with Dale Avery
DESCRIPTION:
URL:https://www.bigbaypointgolf.com/event/tennis-lessons/2024-07-24/
CATEGORIES:Lessons
END:VEVENT
BEGIN:VEVENT
DTSTART;TZID=America/Toronto:20240724T080000
DTEND;TZID=America/Toronto:20240724T100000
DTSTAMP:20260421T175500
CREATED:20240710T141942Z
LAST-MODIFIED:20240710T141942Z
UID:10001287-1721808000-1721815200@www.bigbaypointgolf.com
SUMMARY:Golf Lessons with Jack Healey
DESCRIPTION:
URL:https://www.bigbaypointgolf.com/event/golf-lessons-with-jack-healey-2/2024-07-24/
CATEGORIES:Lessons
END:VEVENT
BEGIN:VEVENT
DTSTART;TZID=America/Toronto:20240723T100000
DTEND;TZID=America/Toronto:20240723T140000
DTSTAMP:20260421T175500
CREATED:20240715T165125Z
LAST-MODIFIED:20240716T133832Z
UID:10001302-1721728800-1721743200@www.bigbaypointgolf.com
SUMMARY:Ladies Day Member/Member Golf and Lunch
DESCRIPTION:Ladies Day Member/Member 9 Hole Golf Tournament and Lunch catered by The Cove Café\, Robert Saunders
URL:https://www.bigbaypointgolf.com/event/ladies-day-member-member-golf-and-lunch/
CATEGORIES:Member Events
END:VEVENT
BEGIN:VEVENT
DTSTART;TZID=America/Toronto:20240723T080000
DTEND;TZID=America/Toronto:20240723T140000
DTSTAMP:20260421T175500
CREATED:20240311T181358Z
LAST-MODIFIED:20240406T141715Z
UID:10000644-1721721600-1721743200@www.bigbaypointgolf.com
SUMMARY:Tennis Lessons with Dale Avery
DESCRIPTION:
URL:https://www.bigbaypointgolf.com/event/tennis-lessons/2024-07-23/
CATEGORIES:Lessons
END:VEVENT
BEGIN:VEVENT
DTSTART;TZID=America/Toronto:20240723T080000
DTEND;TZID=America/Toronto:20240723T140000
DTSTAMP:20260421T175500
CREATED:20240311T171703Z
LAST-MODIFIED:20250422T180902Z
UID:10000595-1721721600-1721743200@www.bigbaypointgolf.com
SUMMARY:Ladies Day - Course Closed until 1:00pm
DESCRIPTION:Ladies Day 9 hole Golf and Lunch on the Patio – Catered by Robert Saunders from The Cove Café. Course Closed until 1pm. Patio is reserved until 2pm for the ladies.
URL:https://www.bigbaypointgolf.com/event/ladies-day-course-closed-until-1230pm/2024-07-23/
CATEGORIES:League
END:VEVENT
BEGIN:VEVENT
DTSTART;TZID=America/Toronto:20240722T100000
DTEND;TZID=America/Toronto:20240722T120000
DTSTAMP:20260421T175500
CREATED:20240311T173907Z
LAST-MODIFIED:20240813T180814Z
UID:10000615-1721642400-1721649600@www.bigbaypointgolf.com
SUMMARY:Scramble
DESCRIPTION:Scramble Format Golf Event- Lunch catered by Robert Saunders from The Cove Café – served on the Patio – Patio is reserved for the Scramble 12pm – 2pm.
URL:https://www.bigbaypointgolf.com/event/scramble-with-the-exception-of-holiday-mondays/2024-07-22/
CATEGORIES:League
END:VEVENT
END:VCALENDAR