BEGIN:VCALENDAR
VERSION:2.0
PRODID:-//Big Bay Point Golf Club - ECPv6.15.20//NONSGML v1.0//EN
CALSCALE:GREGORIAN
METHOD:PUBLISH
X-WR-CALNAME:Big Bay Point Golf Club
X-ORIGINAL-URL:https://www.bigbaypointgolf.com
X-WR-CALDESC:Events for Big Bay Point Golf Club
REFRESH-INTERVAL;VALUE=DURATION:PT1H
X-Robots-Tag:noindex
X-PUBLISHED-TTL:PT1H
BEGIN:VTIMEZONE
TZID:America/Toronto
BEGIN:DAYLIGHT
TZOFFSETFROM:-0500
TZOFFSETTO:-0400
TZNAME:EDT
DTSTART:20230312T070000
END:DAYLIGHT
BEGIN:STANDARD
TZOFFSETFROM:-0400
TZOFFSETTO:-0500
TZNAME:EST
DTSTART:20231105T060000
END:STANDARD
BEGIN:DAYLIGHT
TZOFFSETFROM:-0500
TZOFFSETTO:-0400
TZNAME:EDT
DTSTART:20240310T070000
END:DAYLIGHT
BEGIN:STANDARD
TZOFFSETFROM:-0400
TZOFFSETTO:-0500
TZNAME:EST
DTSTART:20241103T060000
END:STANDARD
BEGIN:DAYLIGHT
TZOFFSETFROM:-0500
TZOFFSETTO:-0400
TZNAME:EDT
DTSTART:20250309T070000
END:DAYLIGHT
BEGIN:STANDARD
TZOFFSETFROM:-0400
TZOFFSETTO:-0500
TZNAME:EST
DTSTART:20251102T060000
END:STANDARD
END:VTIMEZONE
BEGIN:VEVENT
DTSTART;TZID=America/Toronto:20240724T080000
DTEND;TZID=America/Toronto:20240724T140000
DTSTAMP:20260421T205526
CREATED:20240311T181358Z
LAST-MODIFIED:20240406T141715Z
UID:10000645-1721808000-1721829600@www.bigbaypointgolf.com
SUMMARY:Tennis Lessons with Dale Avery
DESCRIPTION:
URL:https://www.bigbaypointgolf.com/event/tennis-lessons/2024-07-24/
CATEGORIES:Lessons
END:VEVENT
BEGIN:VEVENT
DTSTART;TZID=America/Toronto:20240724T080000
DTEND;TZID=America/Toronto:20240724T100000
DTSTAMP:20260421T205526
CREATED:20240710T141942Z
LAST-MODIFIED:20240710T141942Z
UID:10001287-1721808000-1721815200@www.bigbaypointgolf.com
SUMMARY:Golf Lessons with Jack Healey
DESCRIPTION:
URL:https://www.bigbaypointgolf.com/event/golf-lessons-with-jack-healey-2/2024-07-24/
CATEGORIES:Lessons
END:VEVENT
BEGIN:VEVENT
DTSTART;TZID=America/Toronto:20240723T100000
DTEND;TZID=America/Toronto:20240723T140000
DTSTAMP:20260421T205526
CREATED:20240715T165125Z
LAST-MODIFIED:20240716T133832Z
UID:10001302-1721728800-1721743200@www.bigbaypointgolf.com
SUMMARY:Ladies Day Member/Member Golf and Lunch
DESCRIPTION:Ladies Day Member/Member 9 Hole Golf Tournament and Lunch catered by The Cove Café\, Robert Saunders
URL:https://www.bigbaypointgolf.com/event/ladies-day-member-member-golf-and-lunch/
CATEGORIES:Member Events
END:VEVENT
BEGIN:VEVENT
DTSTART;TZID=America/Toronto:20240723T080000
DTEND;TZID=America/Toronto:20240723T140000
DTSTAMP:20260421T205526
CREATED:20240311T181358Z
LAST-MODIFIED:20240406T141715Z
UID:10000644-1721721600-1721743200@www.bigbaypointgolf.com
SUMMARY:Tennis Lessons with Dale Avery
DESCRIPTION:
URL:https://www.bigbaypointgolf.com/event/tennis-lessons/2024-07-23/
CATEGORIES:Lessons
END:VEVENT
BEGIN:VEVENT
DTSTART;TZID=America/Toronto:20240723T080000
DTEND;TZID=America/Toronto:20240723T140000
DTSTAMP:20260421T205526
CREATED:20240311T171703Z
LAST-MODIFIED:20250422T180902Z
UID:10000595-1721721600-1721743200@www.bigbaypointgolf.com
SUMMARY:Ladies Day - Course Closed until 1:00pm
DESCRIPTION:Ladies Day 9 hole Golf and Lunch on the Patio – Catered by Robert Saunders from The Cove Café. Course Closed until 1pm. Patio is reserved until 2pm for the ladies.
URL:https://www.bigbaypointgolf.com/event/ladies-day-course-closed-until-1230pm/2024-07-23/
CATEGORIES:League
END:VEVENT
BEGIN:VEVENT
DTSTART;TZID=America/Toronto:20240722T100000
DTEND;TZID=America/Toronto:20240722T120000
DTSTAMP:20260421T205526
CREATED:20240311T173907Z
LAST-MODIFIED:20240813T180814Z
UID:10000615-1721642400-1721649600@www.bigbaypointgolf.com
SUMMARY:Scramble
DESCRIPTION:Scramble Format Golf Event- Lunch catered by Robert Saunders from The Cove Café – served on the Patio – Patio is reserved for the Scramble 12pm – 2pm.
URL:https://www.bigbaypointgolf.com/event/scramble-with-the-exception-of-holiday-mondays/2024-07-22/
CATEGORIES:League
END:VEVENT
BEGIN:VEVENT
DTSTART;TZID=America/Toronto:20240721T140000
DTEND;TZID=America/Toronto:20240721T160000
DTSTAMP:20260421T205526
CREATED:20240712T135256Z
LAST-MODIFIED:20240712T135256Z
UID:10001294-1721570400-1721577600@www.bigbaypointgolf.com
SUMMARY:Pickleball 2-4pm
DESCRIPTION:
URL:https://www.bigbaypointgolf.com/event/pickleball-2-4pm/2024-07-21/
CATEGORIES:League,Member Events
END:VEVENT
BEGIN:VEVENT
DTSTART;TZID=America/Toronto:20240721T090000
DTEND;TZID=America/Toronto:20240721T160000
DTSTAMP:20260421T205526
CREATED:20240311T171017Z
LAST-MODIFIED:20240406T140647Z
UID:10001269-1721552400-1721577600@www.bigbaypointgolf.com
SUMMARY:Men's League
DESCRIPTION:
URL:https://www.bigbaypointgolf.com/event/mens-league/2024-07-21/
CATEGORIES:League
END:VEVENT
BEGIN:VEVENT
DTSTART;TZID=America/Toronto:20240720T090000
DTEND;TZID=America/Toronto:20240720T160000
DTSTAMP:20260421T205526
CREATED:20240311T171017Z
LAST-MODIFIED:20240406T140647Z
UID:10000566-1721466000-1721491200@www.bigbaypointgolf.com
SUMMARY:Men's League
DESCRIPTION:
URL:https://www.bigbaypointgolf.com/event/mens-league/2024-07-20/
CATEGORIES:League
END:VEVENT
BEGIN:VEVENT
DTSTART;TZID=America/Toronto:20240719T090000
DTEND;TZID=America/Toronto:20240719T160000
DTSTAMP:20260421T205526
CREATED:20240311T171017Z
LAST-MODIFIED:20240406T140647Z
UID:10000565-1721379600-1721404800@www.bigbaypointgolf.com
SUMMARY:Men's League
DESCRIPTION:
URL:https://www.bigbaypointgolf.com/event/mens-league/2024-07-19/
CATEGORIES:League
END:VEVENT
BEGIN:VEVENT
DTSTART;TZID=America/Toronto:20240718T090000
DTEND;TZID=America/Toronto:20240718T160000
DTSTAMP:20260421T205526
CREATED:20240311T171017Z
LAST-MODIFIED:20240406T140647Z
UID:10000564-1721293200-1721318400@www.bigbaypointgolf.com
SUMMARY:Men's League
DESCRIPTION:
URL:https://www.bigbaypointgolf.com/event/mens-league/2024-07-18/
CATEGORIES:League
END:VEVENT
BEGIN:VEVENT
DTSTART;TZID=America/Toronto:20240718T080000
DTEND;TZID=America/Toronto:20240718T100000
DTSTAMP:20260421T205526
CREATED:20240710T141942Z
LAST-MODIFIED:20240710T141942Z
UID:10001254-1721289600-1721296800@www.bigbaypointgolf.com
SUMMARY:Golf Lessons with Jack Healey
DESCRIPTION:
URL:https://www.bigbaypointgolf.com/event/golf-lessons-with-jack-healey-2/2024-07-18/
CATEGORIES:Lessons
END:VEVENT
BEGIN:VEVENT
DTSTART;TZID=America/Toronto:20240717T150000
DTEND;TZID=America/Toronto:20240717T190000
DTSTAMP:20260421T205526
CREATED:20240716T134122Z
LAST-MODIFIED:20240716T134122Z
UID:10001303-1721228400-1721242800@www.bigbaypointgolf.com
SUMMARY:Course Closed for Maintenance 3pm to 7pm
DESCRIPTION:
URL:https://www.bigbaypointgolf.com/event/course-closed-for-maintenance-3pm-to-7pm/
END:VEVENT
BEGIN:VEVENT
DTSTART;TZID=America/Toronto:20240717T080000
DTEND;TZID=America/Toronto:20240717T140000
DTSTAMP:20260421T205526
CREATED:20240311T181358Z
LAST-MODIFIED:20240406T141715Z
UID:10000643-1721203200-1721224800@www.bigbaypointgolf.com
SUMMARY:Tennis Lessons with Dale Avery
DESCRIPTION:
URL:https://www.bigbaypointgolf.com/event/tennis-lessons/2024-07-17/
CATEGORIES:Lessons
END:VEVENT
BEGIN:VEVENT
DTSTART;TZID=America/Toronto:20240717T080000
DTEND;TZID=America/Toronto:20240717T100000
DTSTAMP:20260421T205526
CREATED:20240710T141942Z
LAST-MODIFIED:20240710T141942Z
UID:10001286-1721203200-1721210400@www.bigbaypointgolf.com
SUMMARY:Golf Lessons with Jack Healey
DESCRIPTION:
URL:https://www.bigbaypointgolf.com/event/golf-lessons-with-jack-healey-2/2024-07-17/
CATEGORIES:Lessons
END:VEVENT
BEGIN:VEVENT
DTSTART;TZID=America/Toronto:20240716T080000
DTEND;TZID=America/Toronto:20240716T140000
DTSTAMP:20260421T205526
CREATED:20240311T181358Z
LAST-MODIFIED:20240406T141715Z
UID:10000642-1721116800-1721138400@www.bigbaypointgolf.com
SUMMARY:Tennis Lessons with Dale Avery
DESCRIPTION:
URL:https://www.bigbaypointgolf.com/event/tennis-lessons/2024-07-16/
CATEGORIES:Lessons
END:VEVENT
BEGIN:VEVENT
DTSTART;TZID=America/Toronto:20240716T080000
DTEND;TZID=America/Toronto:20240716T140000
DTSTAMP:20260421T205526
CREATED:20240311T171703Z
LAST-MODIFIED:20250422T180902Z
UID:10000594-1721116800-1721138400@www.bigbaypointgolf.com
SUMMARY:Ladies Day - Course Closed until 1:00pm
DESCRIPTION:Ladies Day 9 hole Golf and Lunch on the Patio – Catered by Robert Saunders from The Cove Café. Course Closed until 1pm. Patio is reserved until 2pm for the ladies.
URL:https://www.bigbaypointgolf.com/event/ladies-day-course-closed-until-1230pm/2024-07-16/
CATEGORIES:League
END:VEVENT
BEGIN:VEVENT
DTSTART;TZID=America/Toronto:20240715T173000
DTEND;TZID=America/Toronto:20240715T190000
DTSTAMP:20260421T205526
CREATED:20240715T164919Z
LAST-MODIFIED:20240715T164919Z
UID:10001301-1721064600-1721070000@www.bigbaypointgolf.com
SUMMARY:Ladies Day Member/Member Potluck Dinner Party
DESCRIPTION:Offsite Location
URL:https://www.bigbaypointgolf.com/event/ladies-day-member-member-potluck-dinner-party/
CATEGORIES:Member Events
END:VEVENT
BEGIN:VEVENT
DTSTART;TZID=America/Toronto:20240715T100000
DTEND;TZID=America/Toronto:20240715T120000
DTSTAMP:20260421T205526
CREATED:20240311T173907Z
LAST-MODIFIED:20240813T180814Z
UID:10000614-1721037600-1721044800@www.bigbaypointgolf.com
SUMMARY:Scramble
DESCRIPTION:Scramble Format Golf Event- Lunch catered by Robert Saunders from The Cove Café – served on the Patio – Patio is reserved for the Scramble 12pm – 2pm.
URL:https://www.bigbaypointgolf.com/event/scramble-with-the-exception-of-holiday-mondays/2024-07-15/
CATEGORIES:League
END:VEVENT
BEGIN:VEVENT
DTSTART;TZID=America/Toronto:20240714T140000
DTEND;TZID=America/Toronto:20240714T160000
DTSTAMP:20260421T205526
CREATED:20240712T135256Z
LAST-MODIFIED:20240712T135256Z
UID:10001293-1720965600-1720972800@www.bigbaypointgolf.com
SUMMARY:Pickleball 2-4pm
DESCRIPTION:
URL:https://www.bigbaypointgolf.com/event/pickleball-2-4pm/2024-07-14/
CATEGORIES:League,Member Events
END:VEVENT
BEGIN:VEVENT
DTSTART;TZID=America/Toronto:20240714T090000
DTEND;TZID=America/Toronto:20240714T160000
DTSTAMP:20260421T205526
CREATED:20240311T171017Z
LAST-MODIFIED:20240406T140647Z
UID:10001268-1720947600-1720972800@www.bigbaypointgolf.com
SUMMARY:Men's League
DESCRIPTION:
URL:https://www.bigbaypointgolf.com/event/mens-league/2024-07-14/
CATEGORIES:League
END:VEVENT
BEGIN:VEVENT
DTSTART;TZID=America/Toronto:20240713T090000
DTEND;TZID=America/Toronto:20240713T160000
DTSTAMP:20260421T205526
CREATED:20240311T171017Z
LAST-MODIFIED:20240406T140647Z
UID:10000562-1720861200-1720886400@www.bigbaypointgolf.com
SUMMARY:Men's League
DESCRIPTION:
URL:https://www.bigbaypointgolf.com/event/mens-league/2024-07-13/
CATEGORIES:League
END:VEVENT
BEGIN:VEVENT
DTSTART;TZID=America/Toronto:20240712T090000
DTEND;TZID=America/Toronto:20240712T160000
DTSTAMP:20260421T205526
CREATED:20240311T171017Z
LAST-MODIFIED:20240406T140647Z
UID:10000561-1720774800-1720800000@www.bigbaypointgolf.com
SUMMARY:Men's League
DESCRIPTION:
URL:https://www.bigbaypointgolf.com/event/mens-league/2024-07-12/
CATEGORIES:League
END:VEVENT
BEGIN:VEVENT
DTSTART;TZID=America/Toronto:20240711T090000
DTEND;TZID=America/Toronto:20240711T160000
DTSTAMP:20260421T205526
CREATED:20240311T171017Z
LAST-MODIFIED:20240406T140647Z
UID:10000560-1720688400-1720713600@www.bigbaypointgolf.com
SUMMARY:Men's League
DESCRIPTION:
URL:https://www.bigbaypointgolf.com/event/mens-league/2024-07-11/
CATEGORIES:League
END:VEVENT
BEGIN:VEVENT
DTSTART;TZID=America/Toronto:20240711T080000
DTEND;TZID=America/Toronto:20240711T100000
DTSTAMP:20260421T205526
CREATED:20240710T141942Z
LAST-MODIFIED:20240710T141942Z
UID:10001285-1720684800-1720692000@www.bigbaypointgolf.com
SUMMARY:Golf Lessons with Jack Healey
DESCRIPTION:
URL:https://www.bigbaypointgolf.com/event/golf-lessons-with-jack-healey-2/2024-07-11/
CATEGORIES:Lessons
END:VEVENT
BEGIN:VEVENT
DTSTART;TZID=America/Toronto:20240710T080000
DTEND;TZID=America/Toronto:20240710T140000
DTSTAMP:20260421T205526
CREATED:20240311T181358Z
LAST-MODIFIED:20240406T141715Z
UID:10000641-1720598400-1720620000@www.bigbaypointgolf.com
SUMMARY:Tennis Lessons with Dale Avery
DESCRIPTION:
URL:https://www.bigbaypointgolf.com/event/tennis-lessons/2024-07-10/
CATEGORIES:Lessons
END:VEVENT
BEGIN:VEVENT
DTSTART;TZID=America/Toronto:20240710T080000
DTEND;TZID=America/Toronto:20240710T100000
DTSTAMP:20260421T205526
CREATED:20240710T141942Z
LAST-MODIFIED:20240710T141942Z
UID:10001252-1720598400-1720605600@www.bigbaypointgolf.com
SUMMARY:Golf Lessons with Jack Healey
DESCRIPTION:
URL:https://www.bigbaypointgolf.com/event/golf-lessons-with-jack-healey-2/2024-07-10/
CATEGORIES:Lessons
END:VEVENT
BEGIN:VEVENT
DTSTART;TZID=America/Toronto:20240709T080000
DTEND;TZID=America/Toronto:20240709T140000
DTSTAMP:20260421T205526
CREATED:20240311T181358Z
LAST-MODIFIED:20240406T141715Z
UID:10000640-1720512000-1720533600@www.bigbaypointgolf.com
SUMMARY:Tennis Lessons with Dale Avery
DESCRIPTION:
URL:https://www.bigbaypointgolf.com/event/tennis-lessons/2024-07-09/
CATEGORIES:Lessons
END:VEVENT
BEGIN:VEVENT
DTSTART;TZID=America/Toronto:20240709T080000
DTEND;TZID=America/Toronto:20240709T140000
DTSTAMP:20260421T205526
CREATED:20240311T171703Z
LAST-MODIFIED:20250422T180902Z
UID:10000593-1720512000-1720533600@www.bigbaypointgolf.com
SUMMARY:Ladies Day - Course Closed until 1:00pm
DESCRIPTION:Ladies Day 9 hole Golf and Lunch on the Patio – Catered by Robert Saunders from The Cove Café. Course Closed until 1pm. Patio is reserved until 2pm for the ladies.
URL:https://www.bigbaypointgolf.com/event/ladies-day-course-closed-until-1230pm/2024-07-09/
CATEGORIES:League
END:VEVENT
BEGIN:VEVENT
DTSTART;TZID=America/Toronto:20240708T100000
DTEND;TZID=America/Toronto:20240708T120000
DTSTAMP:20260421T205526
CREATED:20240311T173907Z
LAST-MODIFIED:20240813T180814Z
UID:10000613-1720432800-1720440000@www.bigbaypointgolf.com
SUMMARY:Scramble
DESCRIPTION:Scramble Format Golf Event- Lunch catered by Robert Saunders from The Cove Café – served on the Patio – Patio is reserved for the Scramble 12pm – 2pm.
URL:https://www.bigbaypointgolf.com/event/scramble-with-the-exception-of-holiday-mondays/2024-07-08/
CATEGORIES:League
END:VEVENT
END:VCALENDAR