BEGIN:VCALENDAR
VERSION:2.0
PRODID:-//Big Bay Point Golf Club - ECPv6.15.20//NONSGML v1.0//EN
CALSCALE:GREGORIAN
METHOD:PUBLISH
X-WR-CALNAME:Big Bay Point Golf Club
X-ORIGINAL-URL:https://www.bigbaypointgolf.com
X-WR-CALDESC:Events for Big Bay Point Golf Club
REFRESH-INTERVAL;VALUE=DURATION:PT1H
X-Robots-Tag:noindex
X-PUBLISHED-TTL:PT1H
BEGIN:VTIMEZONE
TZID:America/Toronto
BEGIN:DAYLIGHT
TZOFFSETFROM:-0500
TZOFFSETTO:-0400
TZNAME:EDT
DTSTART:20220313T070000
END:DAYLIGHT
BEGIN:STANDARD
TZOFFSETFROM:-0400
TZOFFSETTO:-0500
TZNAME:EST
DTSTART:20221106T060000
END:STANDARD
BEGIN:DAYLIGHT
TZOFFSETFROM:-0500
TZOFFSETTO:-0400
TZNAME:EDT
DTSTART:20230312T070000
END:DAYLIGHT
BEGIN:STANDARD
TZOFFSETFROM:-0400
TZOFFSETTO:-0500
TZNAME:EST
DTSTART:20231105T060000
END:STANDARD
BEGIN:DAYLIGHT
TZOFFSETFROM:-0500
TZOFFSETTO:-0400
TZNAME:EDT
DTSTART:20240310T070000
END:DAYLIGHT
BEGIN:STANDARD
TZOFFSETFROM:-0400
TZOFFSETTO:-0500
TZNAME:EST
DTSTART:20241103T060000
END:STANDARD
END:VTIMEZONE
BEGIN:VEVENT
DTSTART;TZID=America/Toronto:20230815T100000
DTEND;TZID=America/Toronto:20230815T120000
DTSTAMP:20260423T004512
CREATED:20230411T201135Z
LAST-MODIFIED:20230411T202141Z
UID:10000283-1692093600-1692100800@www.bigbaypointgolf.com
SUMMARY:Ladies Day
DESCRIPTION:
URL:https://www.bigbaypointgolf.com/event/ladies-day/2023-08-15/
CATEGORIES:Member Events
END:VEVENT
BEGIN:VEVENT
DTSTART;TZID=America/Toronto:20230815T090000
DTEND;TZID=America/Toronto:20230815T120000
DTSTAMP:20260423T004512
CREATED:20230411T200816Z
LAST-MODIFIED:20231013T173358Z
UID:10000143-1692090000-1692100800@www.bigbaypointgolf.com
SUMMARY:Tennis Lessons
DESCRIPTION:
URL:https://www.bigbaypointgolf.com/event/tennis-lessons-open-to-the-public/2023-08-15/
CATEGORIES:Guest Events
END:VEVENT
BEGIN:VEVENT
DTSTART;TZID=America/Toronto:20230814T100000
DTEND;TZID=America/Toronto:20230814T120000
DTSTAMP:20260423T004512
CREATED:20230411T200919Z
LAST-MODIFIED:20231013T173447Z
UID:10000157-1692007200-1692014400@www.bigbaypointgolf.com
SUMMARY:Golf Lessons
DESCRIPTION:
URL:https://www.bigbaypointgolf.com/event/golf-lessons-open-to-the-public-2/2023-08-14/
CATEGORIES:Guest Events
END:VEVENT
BEGIN:VEVENT
DTSTART;TZID=America/Toronto:20230814T100000
DTEND;TZID=America/Toronto:20230814T120000
DTSTAMP:20260423T004512
CREATED:20230411T194825Z
LAST-MODIFIED:20230411T201221Z
UID:10000083-1692007200-1692014400@www.bigbaypointgolf.com
SUMMARY:Scramble
DESCRIPTION:
URL:https://www.bigbaypointgolf.com/event/scramble/2023-08-14/
CATEGORIES:Member Events
END:VEVENT
BEGIN:VEVENT
DTSTART;TZID=America/Toronto:20230812T090000
DTEND;TZID=America/Toronto:20230812T160000
DTSTAMP:20260423T004512
CREATED:20230411T195043Z
LAST-MODIFIED:20230420T190314Z
UID:10000423-1691830800-1691856000@www.bigbaypointgolf.com
SUMMARY:Men's Day
DESCRIPTION:
URL:https://www.bigbaypointgolf.com/event/mens-day/2023-08-12/
CATEGORIES:Member Events
END:VEVENT
BEGIN:VEVENT
DTSTART;TZID=America/Toronto:20230811T090000
DTEND;TZID=America/Toronto:20230811T160000
DTSTAMP:20260423T004512
CREATED:20230411T195043Z
LAST-MODIFIED:20230420T190314Z
UID:10000422-1691744400-1691769600@www.bigbaypointgolf.com
SUMMARY:Men's Day
DESCRIPTION:
URL:https://www.bigbaypointgolf.com/event/mens-day/2023-08-11/
CATEGORIES:Member Events
END:VEVENT
BEGIN:VEVENT
DTSTART;TZID=America/Toronto:20230810T100000
DTEND;TZID=America/Toronto:20230810T120000
DTSTAMP:20260423T004512
CREATED:20230411T200919Z
LAST-MODIFIED:20231013T173447Z
UID:10000156-1691661600-1691668800@www.bigbaypointgolf.com
SUMMARY:Golf Lessons
DESCRIPTION:
URL:https://www.bigbaypointgolf.com/event/golf-lessons-open-to-the-public-2/2023-08-10/
CATEGORIES:Guest Events
END:VEVENT
BEGIN:VEVENT
DTSTART;TZID=America/Toronto:20230810T090000
DTEND;TZID=America/Toronto:20230810T160000
DTSTAMP:20260423T004512
CREATED:20230411T195043Z
LAST-MODIFIED:20230420T190314Z
UID:10000421-1691658000-1691683200@www.bigbaypointgolf.com
SUMMARY:Men's Day
DESCRIPTION:
URL:https://www.bigbaypointgolf.com/event/mens-day/2023-08-10/
CATEGORIES:Member Events
END:VEVENT
BEGIN:VEVENT
DTSTART;TZID=America/Toronto:20230809T090000
DTEND;TZID=America/Toronto:20230809T160000
DTSTAMP:20260423T004512
CREATED:20230411T195043Z
LAST-MODIFIED:20230420T190314Z
UID:10000420-1691571600-1691596800@www.bigbaypointgolf.com
SUMMARY:Men's Day
DESCRIPTION:
URL:https://www.bigbaypointgolf.com/event/mens-day/2023-08-09/
CATEGORIES:Member Events
END:VEVENT
BEGIN:VEVENT
DTSTART;TZID=America/Toronto:20230809T090000
DTEND;TZID=America/Toronto:20230809T120000
DTSTAMP:20260423T004512
CREATED:20230411T200816Z
LAST-MODIFIED:20231013T173358Z
UID:10000142-1691571600-1691582400@www.bigbaypointgolf.com
SUMMARY:Tennis Lessons
DESCRIPTION:
URL:https://www.bigbaypointgolf.com/event/tennis-lessons-open-to-the-public/2023-08-09/
CATEGORIES:Guest Events
END:VEVENT
BEGIN:VEVENT
DTSTART;TZID=America/Toronto:20230808T100000
DTEND;TZID=America/Toronto:20230808T120000
DTSTAMP:20260423T004512
CREATED:20230411T201135Z
LAST-MODIFIED:20230411T202141Z
UID:10000282-1691488800-1691496000@www.bigbaypointgolf.com
SUMMARY:Ladies Day
DESCRIPTION:
URL:https://www.bigbaypointgolf.com/event/ladies-day/2023-08-08/
CATEGORIES:Member Events
END:VEVENT
BEGIN:VEVENT
DTSTART;TZID=America/Toronto:20230808T090000
DTEND;TZID=America/Toronto:20230808T120000
DTSTAMP:20260423T004512
CREATED:20230411T200816Z
LAST-MODIFIED:20231013T173358Z
UID:10000141-1691485200-1691496000@www.bigbaypointgolf.com
SUMMARY:Tennis Lessons
DESCRIPTION:
URL:https://www.bigbaypointgolf.com/event/tennis-lessons-open-to-the-public/2023-08-08/
CATEGORIES:Guest Events
END:VEVENT
BEGIN:VEVENT
DTSTART;TZID=America/Toronto:20230807T100000
DTEND;TZID=America/Toronto:20230807T120000
DTSTAMP:20260423T004512
CREATED:20230411T200919Z
LAST-MODIFIED:20231013T173447Z
UID:10000155-1691402400-1691409600@www.bigbaypointgolf.com
SUMMARY:Golf Lessons
DESCRIPTION:
URL:https://www.bigbaypointgolf.com/event/golf-lessons-open-to-the-public-2/2023-08-07/
CATEGORIES:Guest Events
END:VEVENT
BEGIN:VEVENT
DTSTART;TZID=America/Toronto:20230807T100000
DTEND;TZID=America/Toronto:20230807T120000
DTSTAMP:20260423T004512
CREATED:20230411T194825Z
LAST-MODIFIED:20230411T201221Z
UID:10000082-1691402400-1691409600@www.bigbaypointgolf.com
SUMMARY:Scramble
DESCRIPTION:
URL:https://www.bigbaypointgolf.com/event/scramble/2023-08-07/
CATEGORIES:Member Events
END:VEVENT
BEGIN:VEVENT
DTSTART;TZID=America/Toronto:20230807T090000
DTEND;TZID=America/Toronto:20230807T140000
DTSTAMP:20260423T004512
CREATED:20230411T200626Z
LAST-MODIFIED:20230411T200626Z
UID:10000131-1691398800-1691416800@www.bigbaypointgolf.com
SUMMARY:Men's Field Day - Course Closed
DESCRIPTION:
URL:https://www.bigbaypointgolf.com/event/mens-field-day-course-closed/
CATEGORIES:Member Events
END:VEVENT
BEGIN:VEVENT
DTSTART;VALUE=DATE:20230807
DTEND;VALUE=DATE:20230808
DTSTAMP:20260423T004512
CREATED:20230411T200652Z
LAST-MODIFIED:20230411T200652Z
UID:10000132-1691366400-1691452799@www.bigbaypointgolf.com
SUMMARY:Civic Day
DESCRIPTION:
URL:https://www.bigbaypointgolf.com/event/civic-day/
CATEGORIES:Member Events
END:VEVENT
BEGIN:VEVENT
DTSTART;TZID=America/Toronto:20230805T180000
DTEND;TZID=America/Toronto:20230805T230000
DTSTAMP:20260423T004512
CREATED:20230411T195558Z
LAST-MODIFIED:20230411T195558Z
UID:10000120-1691258400-1691276400@www.bigbaypointgolf.com
SUMMARY:Mid Summer Dinner Dance Party (08-05-2023)
DESCRIPTION:
URL:https://www.bigbaypointgolf.com/event/mid-summer-dinner-dance-party-08-05-2023/
CATEGORIES:Member Events
END:VEVENT
BEGIN:VEVENT
DTSTART;TZID=America/Toronto:20230805T090000
DTEND;TZID=America/Toronto:20230805T160000
DTSTAMP:20260423T004512
CREATED:20230411T195043Z
LAST-MODIFIED:20230420T190314Z
UID:10000419-1691226000-1691251200@www.bigbaypointgolf.com
SUMMARY:Men's Day
DESCRIPTION:
URL:https://www.bigbaypointgolf.com/event/mens-day/2023-08-05/
CATEGORIES:Member Events
END:VEVENT
BEGIN:VEVENT
DTSTART;TZID=America/Toronto:20230804T090000
DTEND;TZID=America/Toronto:20230804T160000
DTSTAMP:20260423T004512
CREATED:20230411T195043Z
LAST-MODIFIED:20230420T190314Z
UID:10000418-1691139600-1691164800@www.bigbaypointgolf.com
SUMMARY:Men's Day
DESCRIPTION:
URL:https://www.bigbaypointgolf.com/event/mens-day/2023-08-04/
CATEGORIES:Member Events
END:VEVENT
BEGIN:VEVENT
DTSTART;TZID=America/Toronto:20230803T100000
DTEND;TZID=America/Toronto:20230803T120000
DTSTAMP:20260423T004512
CREATED:20230411T200919Z
LAST-MODIFIED:20231013T173447Z
UID:10000154-1691056800-1691064000@www.bigbaypointgolf.com
SUMMARY:Golf Lessons
DESCRIPTION:
URL:https://www.bigbaypointgolf.com/event/golf-lessons-open-to-the-public-2/2023-08-03/
CATEGORIES:Guest Events
END:VEVENT
BEGIN:VEVENT
DTSTART;TZID=America/Toronto:20230803T090000
DTEND;TZID=America/Toronto:20230803T160000
DTSTAMP:20260423T004512
CREATED:20230411T195043Z
LAST-MODIFIED:20230420T190314Z
UID:10000417-1691053200-1691078400@www.bigbaypointgolf.com
SUMMARY:Men's Day
DESCRIPTION:
URL:https://www.bigbaypointgolf.com/event/mens-day/2023-08-03/
CATEGORIES:Member Events
END:VEVENT
BEGIN:VEVENT
DTSTART;TZID=America/Toronto:20230802T090000
DTEND;TZID=America/Toronto:20230802T160000
DTSTAMP:20260423T004512
CREATED:20230411T195043Z
LAST-MODIFIED:20230420T190314Z
UID:10000416-1690966800-1690992000@www.bigbaypointgolf.com
SUMMARY:Men's Day
DESCRIPTION:
URL:https://www.bigbaypointgolf.com/event/mens-day/2023-08-02/
CATEGORIES:Member Events
END:VEVENT
BEGIN:VEVENT
DTSTART;TZID=America/Toronto:20230802T090000
DTEND;TZID=America/Toronto:20230802T120000
DTSTAMP:20260423T004512
CREATED:20230411T200816Z
LAST-MODIFIED:20231013T173358Z
UID:10000140-1690966800-1690977600@www.bigbaypointgolf.com
SUMMARY:Tennis Lessons
DESCRIPTION:
URL:https://www.bigbaypointgolf.com/event/tennis-lessons-open-to-the-public/2023-08-02/
CATEGORIES:Guest Events
END:VEVENT
BEGIN:VEVENT
DTSTART;TZID=America/Toronto:20230801T100000
DTEND;TZID=America/Toronto:20230801T120000
DTSTAMP:20260423T004512
CREATED:20230411T201135Z
LAST-MODIFIED:20230411T202141Z
UID:10000281-1690884000-1690891200@www.bigbaypointgolf.com
SUMMARY:Ladies Day
DESCRIPTION:
URL:https://www.bigbaypointgolf.com/event/ladies-day/2023-08-01/
CATEGORIES:Member Events
END:VEVENT
BEGIN:VEVENT
DTSTART;TZID=America/Toronto:20230801T090000
DTEND;TZID=America/Toronto:20230801T120000
DTSTAMP:20260423T004512
CREATED:20230411T200816Z
LAST-MODIFIED:20231013T173358Z
UID:10000139-1690880400-1690891200@www.bigbaypointgolf.com
SUMMARY:Tennis Lessons
DESCRIPTION:
URL:https://www.bigbaypointgolf.com/event/tennis-lessons-open-to-the-public/2023-08-01/
CATEGORIES:Guest Events
END:VEVENT
BEGIN:VEVENT
DTSTART;TZID=America/Toronto:20230731T100000
DTEND;TZID=America/Toronto:20230731T120000
DTSTAMP:20260423T004512
CREATED:20230411T200919Z
LAST-MODIFIED:20231013T173447Z
UID:10000153-1690797600-1690804800@www.bigbaypointgolf.com
SUMMARY:Golf Lessons
DESCRIPTION:
URL:https://www.bigbaypointgolf.com/event/golf-lessons-open-to-the-public-2/2023-07-31/
CATEGORIES:Guest Events
END:VEVENT
BEGIN:VEVENT
DTSTART;TZID=America/Toronto:20230731T100000
DTEND;TZID=America/Toronto:20230731T120000
DTSTAMP:20260423T004512
CREATED:20230411T194825Z
LAST-MODIFIED:20230411T201221Z
UID:10000081-1690797600-1690804800@www.bigbaypointgolf.com
SUMMARY:Scramble
DESCRIPTION:
URL:https://www.bigbaypointgolf.com/event/scramble/2023-07-31/
CATEGORIES:Member Events
END:VEVENT
BEGIN:VEVENT
DTSTART;TZID=America/Toronto:20230729T090000
DTEND;TZID=America/Toronto:20230729T160000
DTSTAMP:20260423T004512
CREATED:20230411T195043Z
LAST-MODIFIED:20230420T190314Z
UID:10000415-1690621200-1690646400@www.bigbaypointgolf.com
SUMMARY:Men's Day
DESCRIPTION:
URL:https://www.bigbaypointgolf.com/event/mens-day/2023-07-29/
CATEGORIES:Member Events
END:VEVENT
BEGIN:VEVENT
DTSTART;TZID=America/Toronto:20230728T090000
DTEND;TZID=America/Toronto:20230728T160000
DTSTAMP:20260423T004512
CREATED:20230411T195043Z
LAST-MODIFIED:20230420T190314Z
UID:10000414-1690534800-1690560000@www.bigbaypointgolf.com
SUMMARY:Men's Day
DESCRIPTION:
URL:https://www.bigbaypointgolf.com/event/mens-day/2023-07-28/
CATEGORIES:Member Events
END:VEVENT
BEGIN:VEVENT
DTSTART;TZID=America/Toronto:20230727T100000
DTEND;TZID=America/Toronto:20230727T120000
DTSTAMP:20260423T004512
CREATED:20230411T200919Z
LAST-MODIFIED:20231013T173447Z
UID:10000152-1690452000-1690459200@www.bigbaypointgolf.com
SUMMARY:Golf Lessons
DESCRIPTION:
URL:https://www.bigbaypointgolf.com/event/golf-lessons-open-to-the-public-2/2023-07-27/
CATEGORIES:Guest Events
END:VEVENT
END:VCALENDAR