BEGIN:VCALENDAR
VERSION:2.0
PRODID:-//Big Bay Point Golf Club - ECPv6.15.20//NONSGML v1.0//EN
CALSCALE:GREGORIAN
METHOD:PUBLISH
X-WR-CALNAME:Big Bay Point Golf Club
X-ORIGINAL-URL:https://www.bigbaypointgolf.com
X-WR-CALDESC:Events for Big Bay Point Golf Club
REFRESH-INTERVAL;VALUE=DURATION:PT1H
X-Robots-Tag:noindex
X-PUBLISHED-TTL:PT1H
BEGIN:VTIMEZONE
TZID:America/Toronto
BEGIN:DAYLIGHT
TZOFFSETFROM:-0500
TZOFFSETTO:-0400
TZNAME:EDT
DTSTART:20220313T070000
END:DAYLIGHT
BEGIN:STANDARD
TZOFFSETFROM:-0400
TZOFFSETTO:-0500
TZNAME:EST
DTSTART:20221106T060000
END:STANDARD
BEGIN:DAYLIGHT
TZOFFSETFROM:-0500
TZOFFSETTO:-0400
TZNAME:EDT
DTSTART:20230312T070000
END:DAYLIGHT
BEGIN:STANDARD
TZOFFSETFROM:-0400
TZOFFSETTO:-0500
TZNAME:EST
DTSTART:20231105T060000
END:STANDARD
BEGIN:DAYLIGHT
TZOFFSETFROM:-0500
TZOFFSETTO:-0400
TZNAME:EDT
DTSTART:20240310T070000
END:DAYLIGHT
BEGIN:STANDARD
TZOFFSETFROM:-0400
TZOFFSETTO:-0500
TZNAME:EST
DTSTART:20241103T060000
END:STANDARD
END:VTIMEZONE
BEGIN:VEVENT
DTSTART;TZID=America/Toronto:20230718T090000
DTEND;TZID=America/Toronto:20230718T120000
DTSTAMP:20260422T181658
CREATED:20230411T200816Z
LAST-MODIFIED:20231013T173358Z
UID:10000135-1689670800-1689681600@www.bigbaypointgolf.com
SUMMARY:Tennis Lessons
DESCRIPTION:
URL:https://www.bigbaypointgolf.com/event/tennis-lessons-open-to-the-public/2023-07-18/
CATEGORIES:Guest Events
END:VEVENT
BEGIN:VEVENT
DTSTART;TZID=America/Toronto:20230717T100000
DTEND;TZID=America/Toronto:20230717T120000
DTSTAMP:20260422T181658
CREATED:20230411T200919Z
LAST-MODIFIED:20231013T173447Z
UID:10000149-1689588000-1689595200@www.bigbaypointgolf.com
SUMMARY:Golf Lessons
DESCRIPTION:
URL:https://www.bigbaypointgolf.com/event/golf-lessons-open-to-the-public-2/2023-07-17/
CATEGORIES:Guest Events
END:VEVENT
BEGIN:VEVENT
DTSTART;TZID=America/Toronto:20230717T100000
DTEND;TZID=America/Toronto:20230717T120000
DTSTAMP:20260422T181658
CREATED:20230411T194825Z
LAST-MODIFIED:20230411T201221Z
UID:10000079-1689588000-1689595200@www.bigbaypointgolf.com
SUMMARY:Scramble
DESCRIPTION:
URL:https://www.bigbaypointgolf.com/event/scramble/2023-07-17/
CATEGORIES:Member Events
END:VEVENT
BEGIN:VEVENT
DTSTART;TZID=America/Toronto:20230715T090000
DTEND;TZID=America/Toronto:20230715T160000
DTSTAMP:20260422T181658
CREATED:20230411T195043Z
LAST-MODIFIED:20230420T190314Z
UID:10000407-1689411600-1689436800@www.bigbaypointgolf.com
SUMMARY:Men's Day
DESCRIPTION:
URL:https://www.bigbaypointgolf.com/event/mens-day/2023-07-15/
CATEGORIES:Member Events
END:VEVENT
BEGIN:VEVENT
DTSTART;TZID=America/Toronto:20230714T090000
DTEND;TZID=America/Toronto:20230714T160000
DTSTAMP:20260422T181658
CREATED:20230411T195043Z
LAST-MODIFIED:20230420T190314Z
UID:10000406-1689325200-1689350400@www.bigbaypointgolf.com
SUMMARY:Men's Day
DESCRIPTION:
URL:https://www.bigbaypointgolf.com/event/mens-day/2023-07-14/
CATEGORIES:Member Events
END:VEVENT
BEGIN:VEVENT
DTSTART;TZID=America/Toronto:20230713T100000
DTEND;TZID=America/Toronto:20230713T120000
DTSTAMP:20260422T181658
CREATED:20230411T200919Z
LAST-MODIFIED:20231013T173447Z
UID:10000148-1689242400-1689249600@www.bigbaypointgolf.com
SUMMARY:Golf Lessons
DESCRIPTION:
URL:https://www.bigbaypointgolf.com/event/golf-lessons-open-to-the-public-2/2023-07-13/
CATEGORIES:Guest Events
END:VEVENT
BEGIN:VEVENT
DTSTART;TZID=America/Toronto:20230713T090000
DTEND;TZID=America/Toronto:20230713T160000
DTSTAMP:20260422T181658
CREATED:20230411T195043Z
LAST-MODIFIED:20230420T190314Z
UID:10000405-1689238800-1689264000@www.bigbaypointgolf.com
SUMMARY:Men's Day
DESCRIPTION:
URL:https://www.bigbaypointgolf.com/event/mens-day/2023-07-13/
CATEGORIES:Member Events
END:VEVENT
BEGIN:VEVENT
DTSTART;TZID=America/Toronto:20230712T090000
DTEND;TZID=America/Toronto:20230712T160000
DTSTAMP:20260422T181658
CREATED:20230411T195043Z
LAST-MODIFIED:20230420T190314Z
UID:10000404-1689152400-1689177600@www.bigbaypointgolf.com
SUMMARY:Men's Day
DESCRIPTION:
URL:https://www.bigbaypointgolf.com/event/mens-day/2023-07-12/
CATEGORIES:Member Events
END:VEVENT
BEGIN:VEVENT
DTSTART;TZID=America/Toronto:20230712T090000
DTEND;TZID=America/Toronto:20230712T120000
DTSTAMP:20260422T181658
CREATED:20230411T200816Z
LAST-MODIFIED:20231013T173358Z
UID:10000134-1689152400-1689163200@www.bigbaypointgolf.com
SUMMARY:Tennis Lessons
DESCRIPTION:
URL:https://www.bigbaypointgolf.com/event/tennis-lessons-open-to-the-public/2023-07-12/
CATEGORIES:Guest Events
END:VEVENT
BEGIN:VEVENT
DTSTART;TZID=America/Toronto:20230711T100000
DTEND;TZID=America/Toronto:20230711T120000
DTSTAMP:20260422T181658
CREATED:20230411T201135Z
LAST-MODIFIED:20230411T202141Z
UID:10000278-1689069600-1689076800@www.bigbaypointgolf.com
SUMMARY:Ladies Day
DESCRIPTION:
URL:https://www.bigbaypointgolf.com/event/ladies-day/2023-07-11/
CATEGORIES:Member Events
END:VEVENT
BEGIN:VEVENT
DTSTART;TZID=America/Toronto:20230711T090000
DTEND;TZID=America/Toronto:20230711T120000
DTSTAMP:20260422T181658
CREATED:20230411T200816Z
LAST-MODIFIED:20231013T173358Z
UID:10000133-1689066000-1689076800@www.bigbaypointgolf.com
SUMMARY:Tennis Lessons
DESCRIPTION:
URL:https://www.bigbaypointgolf.com/event/tennis-lessons-open-to-the-public/2023-07-11/
CATEGORIES:Guest Events
END:VEVENT
BEGIN:VEVENT
DTSTART;TZID=America/Toronto:20230710T100000
DTEND;TZID=America/Toronto:20230710T120000
DTSTAMP:20260422T181658
CREATED:20230411T200919Z
LAST-MODIFIED:20231013T173447Z
UID:10000147-1688983200-1688990400@www.bigbaypointgolf.com
SUMMARY:Golf Lessons
DESCRIPTION:
URL:https://www.bigbaypointgolf.com/event/golf-lessons-open-to-the-public-2/2023-07-10/
CATEGORIES:Guest Events
END:VEVENT
BEGIN:VEVENT
DTSTART;TZID=America/Toronto:20230710T100000
DTEND;TZID=America/Toronto:20230710T120000
DTSTAMP:20260422T181658
CREATED:20230411T194825Z
LAST-MODIFIED:20230411T201221Z
UID:10000078-1688983200-1688990400@www.bigbaypointgolf.com
SUMMARY:Scramble
DESCRIPTION:
URL:https://www.bigbaypointgolf.com/event/scramble/2023-07-10/
CATEGORIES:Member Events
END:VEVENT
BEGIN:VEVENT
DTSTART;TZID=America/Toronto:20230708T090000
DTEND;TZID=America/Toronto:20230708T160000
DTSTAMP:20260422T181658
CREATED:20230411T195043Z
LAST-MODIFIED:20230420T190314Z
UID:10000403-1688806800-1688832000@www.bigbaypointgolf.com
SUMMARY:Men's Day
DESCRIPTION:
URL:https://www.bigbaypointgolf.com/event/mens-day/2023-07-08/
CATEGORIES:Member Events
END:VEVENT
BEGIN:VEVENT
DTSTART;TZID=America/Toronto:20230707T090000
DTEND;TZID=America/Toronto:20230707T160000
DTSTAMP:20260422T181658
CREATED:20230411T195043Z
LAST-MODIFIED:20230420T190314Z
UID:10000402-1688720400-1688745600@www.bigbaypointgolf.com
SUMMARY:Men's Day
DESCRIPTION:
URL:https://www.bigbaypointgolf.com/event/mens-day/2023-07-07/
CATEGORIES:Member Events
END:VEVENT
BEGIN:VEVENT
DTSTART;TZID=America/Toronto:20230706T100000
DTEND;TZID=America/Toronto:20230706T120000
DTSTAMP:20260422T181658
CREATED:20230411T200919Z
LAST-MODIFIED:20231013T173447Z
UID:10000146-1688637600-1688644800@www.bigbaypointgolf.com
SUMMARY:Golf Lessons
DESCRIPTION:
URL:https://www.bigbaypointgolf.com/event/golf-lessons-open-to-the-public-2/2023-07-06/
CATEGORIES:Guest Events
END:VEVENT
BEGIN:VEVENT
DTSTART;TZID=America/Toronto:20230706T090000
DTEND;TZID=America/Toronto:20230706T160000
DTSTAMP:20260422T181658
CREATED:20230411T195043Z
LAST-MODIFIED:20230420T190314Z
UID:10000401-1688634000-1688659200@www.bigbaypointgolf.com
SUMMARY:Men's Day
DESCRIPTION:
URL:https://www.bigbaypointgolf.com/event/mens-day/2023-07-06/
CATEGORIES:Member Events
END:VEVENT
BEGIN:VEVENT
DTSTART;TZID=America/Toronto:20230705T090000
DTEND;TZID=America/Toronto:20230705T160000
DTSTAMP:20260422T181658
CREATED:20230411T195043Z
LAST-MODIFIED:20230420T190314Z
UID:10000400-1688547600-1688572800@www.bigbaypointgolf.com
SUMMARY:Men's Day
DESCRIPTION:
URL:https://www.bigbaypointgolf.com/event/mens-day/2023-07-05/
CATEGORIES:Member Events
END:VEVENT
BEGIN:VEVENT
DTSTART;TZID=America/Toronto:20230704T100000
DTEND;TZID=America/Toronto:20230704T120000
DTSTAMP:20260422T181658
CREATED:20230411T201135Z
LAST-MODIFIED:20230411T202141Z
UID:10000277-1688464800-1688472000@www.bigbaypointgolf.com
SUMMARY:Ladies Day
DESCRIPTION:
URL:https://www.bigbaypointgolf.com/event/ladies-day/2023-07-04/
CATEGORIES:Member Events
END:VEVENT
BEGIN:VEVENT
DTSTART;TZID=America/Toronto:20230703T100000
DTEND;TZID=America/Toronto:20230703T120000
DTSTAMP:20260422T181658
CREATED:20230411T200919Z
LAST-MODIFIED:20231013T173447Z
UID:10000145-1688378400-1688385600@www.bigbaypointgolf.com
SUMMARY:Golf Lessons
DESCRIPTION:
URL:https://www.bigbaypointgolf.com/event/golf-lessons-open-to-the-public-2/2023-07-03/
CATEGORIES:Guest Events
END:VEVENT
BEGIN:VEVENT
DTSTART;TZID=America/Toronto:20230703T100000
DTEND;TZID=America/Toronto:20230703T120000
DTSTAMP:20260422T181658
CREATED:20230411T194825Z
LAST-MODIFIED:20230411T201221Z
UID:10000077-1688378400-1688385600@www.bigbaypointgolf.com
SUMMARY:Scramble
DESCRIPTION:
URL:https://www.bigbaypointgolf.com/event/scramble/2023-07-03/
CATEGORIES:Member Events
END:VEVENT
BEGIN:VEVENT
DTSTART;TZID=America/Toronto:20230701T000000
DTEND;TZID=America/Toronto:20230701T235959
DTSTAMP:20260422T181658
CREATED:20250422T174638Z
LAST-MODIFIED:20250422T174638Z
UID:10001330-1688169600-1688255999@www.bigbaypointgolf.com
SUMMARY:Opening Cocktail Party
DESCRIPTION:
URL:https://www.bigbaypointgolf.com/event/opening-cocktail-party-3/
CATEGORIES:Member Events
END:VEVENT
BEGIN:VEVENT
DTSTART;VALUE=DATE:20230701
DTEND;VALUE=DATE:20230702
DTSTAMP:20260422T181658
CREATED:20230411T181111Z
LAST-MODIFIED:20230411T181111Z
UID:10000009-1688169600-1688255999@www.bigbaypointgolf.com
SUMMARY:Opening Cocktail Party
DESCRIPTION:
URL:https://www.bigbaypointgolf.com/event/opening-cocktail-party/
END:VEVENT
BEGIN:VEVENT
DTSTART;TZID=America/Toronto:20230627T113000
DTEND;TZID=America/Toronto:20230627T163000
DTSTAMP:20260422T181658
CREATED:20230420T185026Z
LAST-MODIFIED:20230420T185026Z
UID:10000291-1687865400-1687883400@www.bigbaypointgolf.com
SUMMARY:Swim Team Golf Day
DESCRIPTION:
URL:https://www.bigbaypointgolf.com/event/swim-team-golf-day/
CATEGORIES:Guest Events
END:VEVENT
BEGIN:VEVENT
DTSTART;TZID=America/Toronto:20230624T120000
DTEND;TZID=America/Toronto:20230624T160000
DTSTAMP:20260422T181658
CREATED:20230411T201357Z
LAST-MODIFIED:20230411T201357Z
UID:10000286-1687608000-1687622400@www.bigbaypointgolf.com
SUMMARY:Private Event - Clubhouse Closed
DESCRIPTION:
URL:https://www.bigbaypointgolf.com/event/private-event-clubhouse-closed/
CATEGORIES:Member Events
END:VEVENT
BEGIN:VEVENT
DTSTART;VALUE=DATE:20230618
DTEND;VALUE=DATE:20230619
DTSTAMP:20260422T181658
CREATED:20230411T193949Z
LAST-MODIFIED:20230411T195637Z
UID:10000075-1687046400-1687132799@www.bigbaypointgolf.com
SUMMARY:Father's Day
DESCRIPTION:
URL:https://www.bigbaypointgolf.com/event/fathers-day/
CATEGORIES:Member Events
END:VEVENT
BEGIN:VEVENT
DTSTART;TZID=America/Toronto:20230617T170000
DTEND;TZID=America/Toronto:20230617T210000
DTSTAMP:20260422T181658
CREATED:20230411T194122Z
LAST-MODIFIED:20230411T194158Z
UID:10000076-1687021200-1687035600@www.bigbaypointgolf.com
SUMMARY:Pete's Party - Clubhouse Closed
DESCRIPTION:
URL:https://www.bigbaypointgolf.com/event/pete/
END:VEVENT
BEGIN:VEVENT
DTSTART;TZID=America/Toronto:20230604T110000
DTEND;TZID=America/Toronto:20230604T140000
DTSTAMP:20260422T181658
CREATED:20230411T201841Z
LAST-MODIFIED:20230420T184829Z
UID:10000008-1685876400-1685887200@www.bigbaypointgolf.com
SUMMARY:Women Try Golf
DESCRIPTION:$25
URL:https://www.bigbaypointgolf.com/event/women-try-golf-3/
CATEGORIES:Member Events
END:VEVENT
BEGIN:VEVENT
DTSTART;TZID=America/Toronto:20230527T110000
DTEND;TZID=America/Toronto:20230527T140000
DTSTAMP:20260422T181658
CREATED:20230411T180925Z
LAST-MODIFIED:20230420T184535Z
UID:10000007-1685185200-1685196000@www.bigbaypointgolf.com
SUMMARY:Community Try Golf
DESCRIPTION:$25
URL:https://www.bigbaypointgolf.com/event/community-try-golf/
CATEGORIES:Member Events
END:VEVENT
BEGIN:VEVENT
DTSTART;VALUE=DATE:20230522
DTEND;VALUE=DATE:20230523
DTSTAMP:20260422T181658
CREATED:20230411T180844Z
LAST-MODIFIED:20230411T195637Z
UID:10000006-1684713600-1684799999@www.bigbaypointgolf.com
SUMMARY:Victoria Day
DESCRIPTION:
URL:https://www.bigbaypointgolf.com/event/victoria-day/
CATEGORIES:Member Events
END:VEVENT
END:VCALENDAR