BEGIN:VCALENDAR
VERSION:2.0
PRODID:-//Big Bay Point Golf Club - ECPv6.15.20//NONSGML v1.0//EN
CALSCALE:GREGORIAN
METHOD:PUBLISH
X-ORIGINAL-URL:https://www.bigbaypointgolf.com
X-WR-CALDESC:Events for Big Bay Point Golf Club
REFRESH-INTERVAL;VALUE=DURATION:PT1H
X-Robots-Tag:noindex
X-PUBLISHED-TTL:PT1H
BEGIN:VTIMEZONE
TZID:America/Toronto
BEGIN:DAYLIGHT
TZOFFSETFROM:-0500
TZOFFSETTO:-0400
TZNAME:EDT
DTSTART:20260308T070000
END:DAYLIGHT
BEGIN:STANDARD
TZOFFSETFROM:-0400
TZOFFSETTO:-0500
TZNAME:EST
DTSTART:20261101T060000
END:STANDARD
BEGIN:DAYLIGHT
TZOFFSETFROM:-0500
TZOFFSETTO:-0400
TZNAME:EDT
DTSTART:20270314T070000
END:DAYLIGHT
BEGIN:STANDARD
TZOFFSETFROM:-0400
TZOFFSETTO:-0500
TZNAME:EST
DTSTART:20271107T060000
END:STANDARD
BEGIN:DAYLIGHT
TZOFFSETFROM:-0500
TZOFFSETTO:-0400
TZNAME:EDT
DTSTART:20280312T070000
END:DAYLIGHT
BEGIN:STANDARD
TZOFFSETFROM:-0400
TZOFFSETTO:-0500
TZNAME:EST
DTSTART:20281105T060000
END:STANDARD
END:VTIMEZONE
BEGIN:VEVENT
DTSTART;TZID=America/Toronto:20270406T100000
DTEND;TZID=America/Toronto:20270406T130000
DTSTAMP:20260422T055821
CREATED:20260309T204151Z
LAST-MODIFIED:20260309T204151Z
UID:10001659-1807005600-1807016400@www.bigbaypointgolf.com
SUMMARY:Ladies Day - Course Closed until 1 PM
DESCRIPTION:Ladies Day 9 hole Golf and Lunch on the Patio – Catered Lunch – Course Closed until 1pm. Patio is reserved until 2pm for the ladies.
URL:https://www.bigbaypointgolf.com/event/ladies-day-course-closed-until-1-pm-2/2027-04-06/
CATEGORIES:Member Events
END:VEVENT
BEGIN:VEVENT
DTSTART;TZID=America/Toronto:20270413T100000
DTEND;TZID=America/Toronto:20270413T130000
DTSTAMP:20260422T055821
CREATED:20260309T204151Z
LAST-MODIFIED:20260309T204151Z
UID:10001660-1807610400-1807621200@www.bigbaypointgolf.com
SUMMARY:Ladies Day - Course Closed until 1 PM
DESCRIPTION:Ladies Day 9 hole Golf and Lunch on the Patio – Catered Lunch – Course Closed until 1pm. Patio is reserved until 2pm for the ladies.
URL:https://www.bigbaypointgolf.com/event/ladies-day-course-closed-until-1-pm-2/2027-04-13/
CATEGORIES:Member Events
END:VEVENT
BEGIN:VEVENT
DTSTART;TZID=America/Toronto:20270420T100000
DTEND;TZID=America/Toronto:20270420T130000
DTSTAMP:20260422T055821
CREATED:20260309T204151Z
LAST-MODIFIED:20260309T204151Z
UID:10001661-1808215200-1808226000@www.bigbaypointgolf.com
SUMMARY:Ladies Day - Course Closed until 1 PM
DESCRIPTION:Ladies Day 9 hole Golf and Lunch on the Patio – Catered Lunch – Course Closed until 1pm. Patio is reserved until 2pm for the ladies.
URL:https://www.bigbaypointgolf.com/event/ladies-day-course-closed-until-1-pm-2/2027-04-20/
CATEGORIES:Member Events
END:VEVENT
BEGIN:VEVENT
DTSTART;TZID=America/Toronto:20270427T100000
DTEND;TZID=America/Toronto:20270427T130000
DTSTAMP:20260422T055821
CREATED:20260309T204151Z
LAST-MODIFIED:20260309T204151Z
UID:10001662-1808820000-1808830800@www.bigbaypointgolf.com
SUMMARY:Ladies Day - Course Closed until 1 PM
DESCRIPTION:Ladies Day 9 hole Golf and Lunch on the Patio – Catered Lunch – Course Closed until 1pm. Patio is reserved until 2pm for the ladies.
URL:https://www.bigbaypointgolf.com/event/ladies-day-course-closed-until-1-pm-2/2027-04-27/
CATEGORIES:Member Events
END:VEVENT
END:VCALENDAR