BEGIN:VCALENDAR
VERSION:2.0
PRODID:-//Big Bay Point Golf Club - ECPv6.15.20//NONSGML v1.0//EN
CALSCALE:GREGORIAN
METHOD:PUBLISH
X-WR-CALNAME:Big Bay Point Golf Club
X-ORIGINAL-URL:https://www.bigbaypointgolf.com
X-WR-CALDESC:Events for Big Bay Point Golf Club
REFRESH-INTERVAL;VALUE=DURATION:PT1H
X-Robots-Tag:noindex
X-PUBLISHED-TTL:PT1H
BEGIN:VTIMEZONE
TZID:America/Toronto
BEGIN:DAYLIGHT
TZOFFSETFROM:-0500
TZOFFSETTO:-0400
TZNAME:EDT
DTSTART:20260308T070000
END:DAYLIGHT
BEGIN:STANDARD
TZOFFSETFROM:-0400
TZOFFSETTO:-0500
TZNAME:EST
DTSTART:20261101T060000
END:STANDARD
BEGIN:DAYLIGHT
TZOFFSETFROM:-0500
TZOFFSETTO:-0400
TZNAME:EDT
DTSTART:20270314T070000
END:DAYLIGHT
BEGIN:STANDARD
TZOFFSETFROM:-0400
TZOFFSETTO:-0500
TZNAME:EST
DTSTART:20271107T060000
END:STANDARD
BEGIN:DAYLIGHT
TZOFFSETFROM:-0500
TZOFFSETTO:-0400
TZNAME:EDT
DTSTART:20280312T070000
END:DAYLIGHT
BEGIN:STANDARD
TZOFFSETFROM:-0400
TZOFFSETTO:-0500
TZNAME:EST
DTSTART:20281105T060000
END:STANDARD
END:VTIMEZONE
BEGIN:VEVENT
DTSTART;TZID=America/Toronto:20270706T100000
DTEND;TZID=America/Toronto:20270706T130000
DTSTAMP:20260422T100927
CREATED:20260309T204151Z
LAST-MODIFIED:20260309T204151Z
UID:10001672-1814868000-1814878800@www.bigbaypointgolf.com
SUMMARY:Ladies Day - Course Closed until 1 PM
DESCRIPTION:Ladies Day 9 hole Golf and Lunch on the Patio – Catered Lunch – Course Closed until 1pm. Patio is reserved until 2pm for the ladies.
URL:https://www.bigbaypointgolf.com/event/ladies-day-course-closed-until-1-pm-2/2027-07-06/
CATEGORIES:Member Events
END:VEVENT
BEGIN:VEVENT
DTSTART;TZID=America/Toronto:20270713T100000
DTEND;TZID=America/Toronto:20270713T130000
DTSTAMP:20260422T100927
CREATED:20260309T204151Z
LAST-MODIFIED:20260309T204151Z
UID:10001673-1815472800-1815483600@www.bigbaypointgolf.com
SUMMARY:Ladies Day - Course Closed until 1 PM
DESCRIPTION:Ladies Day 9 hole Golf and Lunch on the Patio – Catered Lunch – Course Closed until 1pm. Patio is reserved until 2pm for the ladies.
URL:https://www.bigbaypointgolf.com/event/ladies-day-course-closed-until-1-pm-2/2027-07-13/
CATEGORIES:Member Events
END:VEVENT
BEGIN:VEVENT
DTSTART;TZID=America/Toronto:20270720T100000
DTEND;TZID=America/Toronto:20270720T130000
DTSTAMP:20260422T100927
CREATED:20260309T204151Z
LAST-MODIFIED:20260309T204151Z
UID:10001674-1816077600-1816088400@www.bigbaypointgolf.com
SUMMARY:Ladies Day - Course Closed until 1 PM
DESCRIPTION:Ladies Day 9 hole Golf and Lunch on the Patio – Catered Lunch – Course Closed until 1pm. Patio is reserved until 2pm for the ladies.
URL:https://www.bigbaypointgolf.com/event/ladies-day-course-closed-until-1-pm-2/2027-07-20/
CATEGORIES:Member Events
END:VEVENT
BEGIN:VEVENT
DTSTART;TZID=America/Toronto:20270727T100000
DTEND;TZID=America/Toronto:20270727T130000
DTSTAMP:20260422T100927
CREATED:20260309T204151Z
LAST-MODIFIED:20260309T204151Z
UID:10001675-1816682400-1816693200@www.bigbaypointgolf.com
SUMMARY:Ladies Day - Course Closed until 1 PM
DESCRIPTION:Ladies Day 9 hole Golf and Lunch on the Patio – Catered Lunch – Course Closed until 1pm. Patio is reserved until 2pm for the ladies.
URL:https://www.bigbaypointgolf.com/event/ladies-day-course-closed-until-1-pm-2/2027-07-27/
CATEGORIES:Member Events
END:VEVENT
END:VCALENDAR